Workbook

Sheet Kluczowe informacje_Key data
A1: Comparable data pro-forma | B1: Dane porównywalne pro-forma
A2: Key financial and business information | B2: Kluczowe informacje finansowe i biznesowe | C2: 2007 | G2: 2008 | K2: 2009 | O2: 2010 | S2: 2011 | W2: 2012 | AA2: 2013 | AE2: 2014 | AI2: 2015 | AM2: 2016 | AQ2: 2017 | AU2: 2018
C3: 1Q | D3: 2Q | E3: 3Q | F3: 4Q | G3: 1Q | H3: 2Q | I3: 3Q | J3: 4Q | K3: 1Q | L3: 2Q | M3: 3Q | N3: 4Q | O3: 1Q | P3: 2Q | Q3: 3Q | R3: 4Q | S3: 1Q | T3: 2Q | U3: 3Q | V3: 4Q | W3: 1Q | X3: 2Q | Y3: 3Q | Z3: 4Q | AA3: 1Q | AB3: 2Q | AC3: 3Q | AD3: 4Q | AE3: 1Q | AF3: 2Q | AG3: 3Q | AH3: 4Q | AI3: 1Q | AJ3: 2Q | AK3: 3Q | AL3: 4Q | AM3: 1Q | AN3: 2Q | AO3: 3Q | AP3: 4Q | AQ3: 1Q | AR3: 2Q | AS3: 3Q | AT3: 4Q | AU3: 1Q | AV3: 2Q | AW3: 3Q | AX3: 4Q
A4: (PLN million) | B4: (w mln zł)
A5: P&L: | B5: Wynik finansowy:
A6: Income 1 | B6: Przychody 1 | C6: ='RZiS_P&L'!C18+'RZiS_P&L'!C23 -> 539.2 | D6: ='RZiS_P&L'!D18+'RZiS_P&L'!D23 -> 522.2 | E6: ='RZiS_P&L'!E18+'RZiS_P&L'!E23 -> 542.3 | F6: ='RZiS_P&L'!F18+'RZiS_P&L'!F23 -> 473.2 | G6: ='RZiS_P&L'!G18+'RZiS_P&L'!G23 -> 582.7 | H6: ='RZiS_P&L'!H18+'RZiS_P&L'!H23 -> 625.7 | I6: ='RZiS_P&L'!I18+'RZiS_P&L'!I23 -> 620.2 | J6: ='RZiS_P&L'!J18+'RZiS_P&L'!J23 -> 303.9 | ... AX6: ='RZiS_P&L'!AX18+'RZiS_P&L'!AX23 -> 1359.4
A7: Costs | B7: Koszty | C7: ='RZiS_P&L'!C19 -> 336.1 | D7: ='RZiS_P&L'!D19 -> 345 | E7: ='RZiS_P&L'!E19 -> 356.9 | F7: ='RZiS_P&L'!F19-'RZiS_P&L'!F20 -> 355.1 | G7: ='RZiS_P&L'!G19 -> 367.7 | H7: ='RZiS_P&L'!H19 -> 389.9 | I7: ='RZiS_P&L'!I19 -> 407.7 | J7: ='RZiS_P&L'!J19-'RZiS_P&L'!J20 -> 338.6 | K7: ='RZiS_P&L'!K19 -> 366.8 | L7: ='RZiS_P&L'!L19 -> 386.6 | M7: ='RZiS_P&L'!M19 -> 397.3 | N7: ='RZiS_P&L'!N19-'RZiS_P&L'!N20 -> 355.2 | O7: ='RZiS_P&L'!O19 -> 394.4 | P7: ='RZiS_P&L'!P19 -> 407.1 | Q7: ='RZiS_P&L'!Q19 -> 411.6 | R7: ='RZiS_P&L'!R19-'RZiS_P&L'!R20 -> 396.4 | S7: ='RZiS_P&L'!S19 -> 417.4 | T7: ='RZiS_P&L'!T19 -> 431.8 | U7: ='RZiS_P&L'!U19 -> 431.1 | V7: ='RZiS_P&L'!V19-'RZiS_P&L'!V20 -> 419.7 | W7: ='RZiS_P&L'!W19 -> 474.9 | X7: ='RZiS_P&L'!X19 -> 465 | Y7: ='RZiS_P&L'!Y19 -> 466.2 | Z7: ='RZiS_P&L'!Z19-'RZiS_P&L'!Z20 -> 460.1 | AA7: ='RZiS_P&L'!AA19 -> 482.2 | AB7: ='RZiS_P&L'!AB19 -> 477 | AC7: ='RZiS_P&L'!AC19 -> 458.8 | AD7: ='RZiS_P&L'!AD19-'RZiS_P&L'!AD20 -> 450.4 | AE7: ='RZiS_P&L'!AE19-'RZiS_P&L'!AE20 -> 471.2 | AF7: ='RZiS_P&L'!AF19-'RZiS_P&L'!AF20 -> 480.5 | AG7: ='RZiS_P&L'!AG19-'RZiS_P&L'!AG20 -> 489.5 | AH7: ='RZiS_P&L'!AH19-'RZiS_P&L'!AH20 -> 488.5 | AI7: ='RZiS_P&L'!AI19-'RZiS_P&L'!AI20 -> 495.6 | AJ7: ='RZiS_P&L'!AJ19-'RZiS_P&L'!AJ20 -> 502.3 | AK7: ='RZiS_P&L'!AK19-'RZiS_P&L'!AK20 -> 509.8 | AL7: ='RZiS_P&L'!AL19-'RZiS_P&L'!AL20 -> 648 | AM7: ='RZiS_P&L'!AM19 -> 508.8 | AN7: ='RZiS_P&L'!AN19 -> 517.2 | AO7: ='RZiS_P&L'!AO19 -> 515.5 | AP7: ='RZiS_P&L'!AP19 -> 557.7 | AQ7: ='RZiS_P&L'!AQ19 -> 565.6 | AR7: ='RZiS_P&L'!AR19 -> 512.1 | AS7: ='RZiS_P&L'!AS19 -> 529.6 | AT7: ='RZiS_P&L'!AT19 -> 528.5 | ... AX7: ='RZiS_P&L'!AX19 -> 566.3
A8: Risk costs | B8: Koszty ryzyka | C8: ='RZiS_P&L'!C21 -> -6.3 | D8: ='RZiS_P&L'!D21 -> -26.7 | E8: ='RZiS_P&L'!E21 -> -64.4 | F8: ='RZiS_P&L'!F21 -> -5.8 | G8: ='RZiS_P&L'!G21 -> 0.7 | H8: ='RZiS_P&L'!H21 -> -58.8 | I8: ='RZiS_P&L'!I21 -> 7.2 | J8: ='RZiS_P&L'!J21 -> 116.5 | ... AT8: ='RZiS_P&L'!AT21 -> 112.6 | AU8: ='RZiS_P&L'!AU22 -> 94.8 | AV8: ='RZiS_P&L'!AV22 -> 173.7 | AW8: ='RZiS_P&L'!AW22 -> 133.9 | AX8: ='RZiS_P&L'!AX22 -> 98.5
A9: Gross profit | B9: Zysk brutto | C9: ='RZiS_P&L'!C24 -> 209.4 | D9: ='RZiS_P&L'!D24 -> 203.9 | E9: ='RZiS_P&L'!E24 -> 249.8 | F9: ='RZiS_P&L'!F24 -> 123.9 | G9: ='RZiS_P&L'!G24 -> 214.3 | H9: ='RZiS_P&L'!H24 -> 294.6 | I9: ='RZiS_P&L'!I24 -> 205.3 | J9: ='RZiS_P&L'!J24 -> -151.2 | ... AX9: ='RZiS_P&L'!AX24 -> 595.7
A10: Net profit 2 | B10: Zysk netto 2 | C10: ='RZiS_P&L'!C27 -> 167.4 | D10: ='RZiS_P&L'!D27 -> 167.8 | E10: ='RZiS_P&L'!E27 -> 198 | F10: ='RZiS_P&L'!F27 -> 97.5 | G10: ='RZiS_P&L'!G27 -> 173.8 | H10: ='RZiS_P&L'!H27 -> 233.7 | I10: ='RZiS_P&L'!I27 -> 166.9 | J10: ='RZiS_P&L'!J27 -> -129 | ... AX10: ='RZiS_P&L'!AX27 -> 452.2
A12: BS: | B12: Dane bilansowe:
A13: Balance sheet total | B13: Suma bilansowa | C13: =Bilans_BS!C20 -> 56616.9 | D13: =Bilans_BS!D20 -> 53203.1 | E13: =Bilans_BS!E20 -> 53246.6 | F13: =Bilans_BS!F20 -> 52010.8 | G13: =Bilans_BS!G20 -> 60234.4 | H13: =Bilans_BS!H20 -> 60513.2 | I13: =Bilans_BS!I20 -> 65262.6 | J13: =Bilans_BS!J20 -> 69610.5 | ... AX13: =Bilans_BS!AX20 -> 141589.6
A14: Loans and receivables to customers (net) 3, of which: | B14: Kredyty i inne należności udzielone klientom netto 3, w tym: | C14: =Bilans_BS!C11-Kredyty_loans_old!C83-Kredyty_loans_old!C90 -> 13782.6 | D14: =Bilans_BS!D11-Kredyty_loans_old!D83-Kredyty_loans_old!D90 -> 14567.2 | E14: =Bilans_BS!E11-Kredyty_loans_old!E83-Kredyty_loans_old!E90 -> 15449.4 | F14: =Bilans_BS!F11-Kredyty_loans_old!F83-Kredyty_loans_old!F90 -> 16379.1 | G14: =Bilans_BS!G11-Kredyty_loans_old!G83-Kredyty_loans_old!G90 -> 18039.9 | H14: =Bilans_BS!H11-Kredyty_loans_old!H83-Kredyty_loans_old!H90 -> 20372 | I14: =Bilans_BS!I11-Kredyty_loans_old!I83-Kredyty_loans_old!I90 -> 21986.8 | J14: =Bilans_BS!J11-Kredyty_loans_old!J83-Kredyty_loans_old!J90 -> 24088.8 | ... AT14: =Bilans_BS!AT11-Kredyty_loans_old!AT83-Kredyty_loans_old!AT90 -> 87544 | AU14: =Bilans_BS!AU11 -> 90290.5 | AV14: =Bilans_BS!AV11 -> 94724.3 | AW14: =Bilans_BS!AW11 -> 99223.8 | AX14: =Bilans_BS!AX11 -> 103125.8
A15: Loans | B15: Kredyty | C15: =Kredyty_loans_old!C6+Kredyty_loans_old!C9+Kredyty_loans_old!C16+Kredyty_loans_old!C19 -> 13547.4 | D15: =Kredyty_loans_old!D6+Kredyty_loans_old!D9+Kredyty_loans_old!D16+Kredyty_loans_old!D19 -> 14323.8 | E15: =Kredyty_loans_old!E6+Kredyty_loans_old!E9+Kredyty_loans_old!E16+Kredyty_loans_old!E19 -> 15231.5 | F15: =Kredyty_loans_old!F6+Kredyty_loans_old!F9+Kredyty_loans_old!F16+Kredyty_loans_old!F19 -> 16105.5 | G15: =Kredyty_loans_old!G6+Kredyty_loans_old!G9+Kredyty_loans_old!G16+Kredyty_loans_old!G19 -> 17758.9 | H15: =Kredyty_loans_old!H6+Kredyty_loans_old!H9+Kredyty_loans_old!H16+Kredyty_loans_old!H19 -> 19283.5 | I15: =Kredyty_loans_old!I6+Kredyty_loans_old!I9+Kredyty_loans_old!I16+Kredyty_loans_old!I19 -> 21522.1 | J15: =Kredyty_loans_old!J6+Kredyty_loans_old!J9+Kredyty_loans_old!J16+Kredyty_loans_old!J19 -> 23639.8 | ... AO15: =Kredyty_loans_old!AO6+Kredyty_loans_old!AO9+Kredyty_loans_old!AO16+Kredyty_loans_old!AO19 -> 66660.6 | AP15: =Kredyty_loans!AP66-Kredyty_loans!AP70-Kredyty_loans!AP71-Kredyty_loans!AP76 -> 67572.6 | AQ15: =Kredyty_loans!AQ66-Kredyty_loans!AQ70-Kredyty_loans!AQ71-Kredyty_loans!AQ76 -> 69982.9 | AR15: =Kredyty_loans!AR66-Kredyty_loans!AR70-Kredyty_loans!AR71-Kredyty_loans!AR76 -> 72021.2 | AS15: =Kredyty_loans!AS66-Kredyty_loans!AS70-Kredyty_loans!AS71-Kredyty_loans!AS76 -> 74721.8 | AT15: =Kredyty_loans!AT66-Kredyty_loans!AT70-Kredyty_loans!AT71-Kredyty_loans!AT76 -> 75667.9 | AU15: =Kredyty_loans!AU66-Kredyty_loans!AU70-Kredyty_loans!AU71-Kredyty_loans!AU76 -> 77893.4 | AV15: =Kredyty_loans!AV66-Kredyty_loans!AV70-Kredyty_loans!AV71-Kredyty_loans!AV76 -> 81668.4 | AW15: =Kredyty_loans!AW66-Kredyty_loans!AW70-Kredyty_loans!AW71-Kredyty_loans!AW76 -> 85819.6 | AX15: =Kredyty_loans!AX66-Kredyty_loans!AX70-Kredyty_loans!AX71-Kredyty_loans!AX76 -> 89028.7
A16: Leasing receivables | B16: Należności leasingowe | C16: 0 | D16: 0 | E16: 0 | F16: 0 | G16: 0 | H16: 0 | I16: 0 | J16: 0 | K16: 0 | L16: 0 | M16: 0 | N16: 0 | O16: 0 | P16: 0 | Q16: 0 | R16: 0 | S16: 0 | T16: 0 | U16: 0 | V16: 0 | W16: 3045.6 | X16: 3084.4 | Y16: =Kredyty_loans_old!Y7+Kredyty_loans_old!Y17 -> 3067.2 | Z16: =Kredyty_loans_old!Z7+Kredyty_loans_old!Z17 -> 3164.5 | AA16: =Kredyty_loans_old!AA7+Kredyty_loans_old!AA17 -> 3188.4 | AB16: =Kredyty_loans_old!AB7+Kredyty_loans_old!AB17 -> 3322.4 | AC16: =Kredyty_loans_old!AC7+Kredyty_loans_old!AC17 -> 3472.2 | AD16: =Kredyty_loans_old!AD7+Kredyty_loans_old!AD17 -> 3590.8 | AE16: =Kredyty_loans_old!AE7+Kredyty_loans_old!AE17 -> 3774.3 | AF16: =Kredyty_loans_old!AF7+Kredyty_loans_old!AF17 -> 4162.1 | ... AO16: =Kredyty_loans_old!AO7+Kredyty_loans_old!AO17 -> 5509.3 | AP16: =Kredyty_loans!AP70+Kredyty_loans!AP76 -> 5710.6 | AQ16: =Kredyty_loans!AQ70+Kredyty_loans!AQ76 -> 5774.1 | AR16: =Kredyty_loans!AR70+Kredyty_loans!AR76 -> 6098.6 | AS16: =Kredyty_loans!AS70+Kredyty_loans!AS76 -> 6327.4 | AT16: =Kredyty_loans!AT70+Kredyty_loans!AT76 -> 6560.1 | AU16: =Kredyty_loans!AU70+Kredyty_loans!AU76 -> 6825 | AV16: =Kredyty_loans!AV70+Kredyty_loans!AV76 -> 7246.3 | AW16: =Kredyty_loans!AW70+Kredyty_loans!AW76 -> 7608.3 | AX16: =Kredyty_loans!AX70+Kredyty_loans!AX76 -> 8093.6
A17: Factoring receivables | B17: Należności faktoringowe | C17: =Kredyty_loans_old!C8+Kredyty_loans_old!C18 -> 148.7 | D17: =Kredyty_loans_old!D8+Kredyty_loans_old!D18 -> 148.1 | E17: =Kredyty_loans_old!E8+Kredyty_loans_old!E18 -> 125.5 | F17: =Kredyty_loans_old!F8+Kredyty_loans_old!F18 -> 128.6 | G17: =Kredyty_loans_old!G8+Kredyty_loans_old!G18 -> 130.5 | H17: =Kredyty_loans_old!H8+Kredyty_loans_old!H18 -> 136 | I17: =Kredyty_loans_old!I8+Kredyty_loans_old!I18 -> 178.2 | J17: =Kredyty_loans_old!J8+Kredyty_loans_old!J18 -> 164.6 | ... AO17: =Kredyty_loans_old!AO8+Kredyty_loans_old!AO18 -> 4264.7 | AP17: =Kredyty_loans!AP71 -> 4350.4 | AQ17: =Kredyty_loans!AQ71 -> 4513.4 | AR17: =Kredyty_loans!AR71 -> 4622.2 | AS17: =Kredyty_loans!AS71 -> 4715.1 | AT17: =Kredyty_loans!AT71 -> 4589 | AU17: =Kredyty_loans!AU71 -> 4562.6 | AV17: =Kredyty_loans!AV71 -> 4751.6 | AW17: =Kredyty_loans!AW71 -> 4767 | AX17: =Kredyty_loans!AX71 -> 4834.5
A18: Liabilities due to customers | B18: Zobowiązania wobec klientów | C18: =Bilans_BS!C28 -> 40774.6 | D18: =Bilans_BS!D28 -> 40253.4 | E18: =Bilans_BS!E28 -> 40658.1 | F18: =Bilans_BS!F28 -> 44501.8 | G18: =Bilans_BS!G28 -> 45359.1 | H18: =Bilans_BS!H28 -> 47651.4 | I18: =Bilans_BS!I28 -> 51303.5 | J18: =Bilans_BS!J28 -> 47111.9 | ... AX18: =Bilans_BS!AX28 -> 117682.5
A19: Equity 4 | B19: Kapitały własne 4 | C19: =Bilans_BS!C41 -> 3902.3 | D19: =Bilans_BS!D41 -> 3622 | E19: =Bilans_BS!E41 -> 3820.4 | F19: =Bilans_BS!F41 -> 3838.8 | G19: =Bilans_BS!G41 -> 4013.7 | H19: =Bilans_BS!H41 -> 3977.6 | I19: =Bilans_BS!I41 -> 4277.9 | J19: =Bilans_BS!J41 -> 4222.2 | ... AX19: =Bilans_BS!AX41 -> 13336.3
A21: Total capital ratio (consolidated) as % | B21: Łączny współczynnik kapitałowy skonsolidowany w % | C21: 0.1374 | D21: 0.1341 | E21: 0.1305 | F21: 0.1312 | G21: 0.1102 | H21: 0.1122 | I21: 0.119 | J21: 0.1039 | K21: 0.101 | L21: 0.1087 | M21: 0.1207 | N21: 0.1201 | O21: 0.13 | P21: 0.1256 | Q21: 0.133 | R21: 0.1315 | S21: 0.1274 | T21: 0.1261 | U21: 0.1256 | V21: 0.1192 | W21: 0.1211 | X21: 0.1298 | Y21: ='Łączny współ kap_TCR_GROUP'!Y51 -> 0.1367 | Z21: ='Łączny współ kap_TCR_GROUP'!Z51 -> 0.1455 | AA21: ='Łączny współ kap_TCR_GROUP'!AA51 -> 0.1515 | AB21: ='Łączny współ kap_TCR_GROUP'!AB51 -> 0.1583 | AC21: ='Łączny współ kap_TCR_GROUP'!AC51 -> 0.1739 | AD21: ='Łączny współ kap_TCR_GROUP'!AD51 -> 0.1728 | AE21: ='Łączny współ kap_TCR_GROUP'!AE51 -> 0.1457 | AF21: ='Łączny współ kap_TCR_GROUP'!AF51 -> 0.1504 | ... AX21: ='Łączny współ kap_TCR_GROUP'!AX51 -> 0.156
A25: Total capital ratio (standalone) as % | B25: Łączny współczynnik kapitałowy jednostkowy w % | C25: 0.1318 | D25: 0.1255 | E25: 0.1217 | F25: 0.1203 | G25: 0.1025 | H25: 0.1033 | I25: 0.1131 | J25: 0.0983 | K25: 0.0939 | L25: 0.0993 | M25: 0.1121 | N25: 0.1124 | O25: 0.1218 | P25: 0.1159 | Q25: 0.1236 | R25: 0.122 | S25: 0.1173 | T25: 0.1161 | U25: 0.1178 | V25: 0.1158 | W25: 0.1157 | X25: 0.124 | Y25: 0.1309 | Z25: 0.14 | AA25: 0.1441 | AB25: 0.1525 | AC25: 0.1733 | AD25: 0.171 | AE25: 0.153 | AF25: 0.157 | AG25: 0.1531 | AH25: 0.1552 | AI25: 0.1576 | AJ25: 0.1462 | AK25: 0.1467 | AL25: 0.1507 | AM25: 0.154 | AN25: 0.1628 | AO25: 0.1659 | AP25: 0.166 | AQ25: 0.1613 | AR25: 0.172 | AS25: 0.1647 | AT25: 0.1839 | AU25: 0.1765 | AV25: 0.1664 | AW25: 0.1673 | AX25: 0.1719
A29: Basic ratios: | B29: Podstawowe wskaźniki:
A30: Net profit/ Balance sheet total (ROA) as % | B30: Zysk netto/suma bilansowa (ROA) w % | C30: 1.3 | D30: 1.2 | E30: 1.2 | F30: 1.2 | G30: 1.2 | H30: 1.3 | I30: 1.2 | J30: 0.7 | K30: 0.5 | L30: 0.5 | M30: 0.5 | N30: 0.9 | O30: 1.1 | P30: 1.1 | Q30: 1.1 | R30: 1.2 | S30: 1.2 | T30: 1.3 | U30: 1.3 | V30: 1.3 | W30: 1.3 | X30: 1.2 | Y30: 1.2 | Z30: 1.1 | AA30: 1.1 | AB30: 1.1 | AC30: 1.1 | AD30: 1.2 | AE30: 1.1 | AF30: 1.2 | AG30: 1.2 | AH30: 1.1 | AI30: 1.1 | AJ30: 1.1 | AK30: 1.1 | AL30: 1.1 | AM30: 1 | AN30: 1.1 | AO30: 1.1 | AP30: 1.1 | AQ30: 1.1 | AR30: 1.1 | AS30: 1.1 | AT30: 1.2 | AU30: 1.2 | AV30: 1.1 | AW30: 1.1 | AX30: 1.2
A31: Net profit/ Equity (ROE) as % | B31: Zysk netto/Kapitały (ROE) w % | C31: 16.3 | D31: 16.3 | E31: 17 | F31: 16.7 | G31: 16.6 | H31: 18.2 | I31: 16.9 | J31: 11 | K31: 8.5 | L31: 7.1 | M31: 7.8 | N31: 13.1 | O31: 14.7 | P31: 14.3 | Q31: 13.3 | R31: 14.2 | S31: 14.4 | T31: 14.7 | U31: 14.7 | V31: 14.7 | W31: 15.1 | X31: 13.5 | Y31: 12.7 | Z31: 11.7 | AA31: 10.9 | AB31: 11.2 | AC31: 11.2 | AD31: 11.6 | AE31: 11.3 | AF31: 11.9 | AG31: 11.8 | AH31: 11.1 | AI31: 10.8 | AJ31: 11.2 | AK31: 11.4 | AL31: 11 | AM31: 10.9 | AN31: 11.4 | AO31: 11.3 | AP31: 11.7 | AQ31: 12 | AR31: 11.5 | AS31: 11.8 | AT31: 12.6 | AU31: 12.4 | AV31: 12.3 | AW31: 12.1 | AX31: 12.5
A32: Cost /Income ratio (C/I) as % | B32: Koszty/Dochody w % | C32: =+C7/C6*100 -> 62.333086 | D32: =ROUND(D7/D6*100,1) -> 66.1 | E32: =ROUND(E7/E6*100,1) -> 65.8 | F32: =ROUND(F7/F6*100,1) -> 75 | G32: =ROUND(G7/G6*100,1) -> 63.1 | H32: =ROUND(H7/H6*100,1) -> 62.3 | I32: =ROUND(I7/I6*100,1) -> 65.7 | J32: =ROUND(J7/J6*100,1) -> 111.4 | K32: =ROUND(K7/K6*100,1) -> 65.3 | ... AX32: =ROUND(AX7/AX6*100,1) -> 41.7
A33: Cost /Income ratio (C/I) as % - cumulatively | B33: Koszty/Dochody w % - narastająco | C33: =+C7/C6*100 -> 62.333086 | D33: =(+C7+D7)/(C6+D6)*100 -> 64.169964 | E33: =(+C7+D7+E7)/(C6+D6+E6)*100 -> 64.725323 | F33: =(+C7+D7+E7+F7)/(C6+D6+E6+F6)*100 -> 67.07593 | G33: =+G7/G6*100 -> 63.102797 | H33: =(+G7+H7)/(G6+H6)*100 -> 62.694472 | I33: =(+G7+H7+I7)/(G6+H6+I6)*100 -> 63.726348 | J33: =(+G7+H7+I7+J7)/(G6+H6+I6+J6)*100 -> 70.52286 | K33: =+K7/K6*100 -> 65.336658 | L33: =(+K7+L7)/(K6+L6)*100 -> 60.247901 | M33: =(+K7+L7+M7)/(K6+L6+M6)*100 -> 58.742151 | N33: =(+K7+L7+M7+N7)/(K6+L6+M6+N6)*100 -> 59.087342 | O33: =+O7/O6*100 -> 59.577039 | P33: =(+O7+P7)/(O6+P6)*100 -> 59.613239 | Q33: =(+O7+P7+Q7)/(O6+P6+Q6)*100 -> 59.21605 | R33: =(+O7+P7+Q7+R7)/(O6+P6+Q6+R6)*100 -> 58.586925 | S33: =+S7/S6*100 -> 56.283711 | T33: =(+S7+T7)/(S6+T6)*100 -> 56.571847 | U33: =(+S7+T7+U7)/(S6+T6+U6)*100 -> 57.261058 | V33: =(+S7+T7+U7+V7)/(S6+T6+U6+V6)*100 -> 56.856187 | W33: =+W7/W6*100 -> 55.427171 | X33: =(+W7+X7)/(W6+X6)*100 -> 56.610251 | Y33: =(+X7+Y7+W7)/(X6+Y6+W6)*100 -> 57.116744 | Z33: =(+Y7+W7+X7+Z7)/(Y6+W6+X6+Z6)*100 -> 57.508243 | AA33: =(+AA7/AA6)*100 -> 55.797269 | AB33: =(+AA7+AB7)/(AA6+AB6)*100 -> 57.153072 | AC33: =(+AA7+AC7+AB7)/(AA6+AC6+AB6)*100 -> 56.961517 | AD33: =(+AA7+AD7+AC7+AB7)/(AA6+AD6+AC6+AB6)*100 -> 56.133393 | AE33: =(+AE7/AE6)*100 -> 53.31523 | AF33: =(+AE7+AF7)/(AE6+AF6)*100 -> 53.421274 | AG33: =(+AE7+AG7+AF7)/(AE6+AG6+AF6)*100 -> 53.800209 | AH33: =(+AE7+AH7+AF7+AG7)/(AE6+AH6+AF6+AG6)*100 -> 54.437486 | AI33: =(+AI7)/(AI6)*100 -> 54.701987 | AJ33: =(+AI7+AJ7)/(AI6+AJ6)*100 -> 52.871675 | AK33: =(+AI7+AK7+AJ7)/(AI6+AK6+AJ6)*100 -> 53.379359 | AL33: =(+AJ7+AL7+AK7+AI7)/(AJ6+AL6+AK6+AI6)*100 -> 57.05778 | AM33: =ROUND(AM7/AM6*100,1) -> 52.2 | AN33: =(+AM7+AN7)/(AM6+AN6)*100 -> 48.214286 | AO33: =(+AN7+AO7+AM7)/(AN6+AO6+AM6)*100 -> 48.13427 | AP33: =(+AN7+AP7+AM7+AO7)/(AN6+AP6+AM6+AO6)*100 -> 48.542028 | AQ33: =(+AQ7)/(AQ6)*100 -> 49.819431 | AR33: =(+AQ7+AR7)/(AQ6+AR6)*100 -> 46.314839 | AS33: =(+AQ7+AS7+AR7)/(AQ6+AS6+AR6)*100 -> 45.38088 | AT33: =(+AR7+AT7+AQ7+AS7)/(AR6+AT6+AQ6+AS6)*100 -> 44.784131 | AU33: =(+AU7)/(AU6)*100 -> 49.988066 | AV33: =(+AU7+AV7)/(AU6+AV6)*100 -> 46.094815 | AW33: =(+AU7+AW7+AV7)/(AU6+AW6+AV6)*100 -> 45.455719 | AX33: =(+AV7+AX7+AW7)/(AV6+AX6+AW6)*100 -> 42.724186
A34: Net interest margin (NIM) as % 5 | B34: Marża odsetkowa netto w % 5 | C34: - | D34: - | E34: - | F34: - | G34: 2.04 | H34: 2.14 | I34: 2.15 | J34: 2.14 | K34: 2.08 | L34: 2.11 | M34: 2.18 | N34: 2.25 | O34: 2.45 | P34: 2.58 | Q34: 2.66 | R34: 2.78 | S34: 2.79 | T34: 2.83 | U34: 2.84 | V34: 2.87 | W34: 2.89 | X34: 2.94 | Y34: 2.95 | Z34: 2.94 | AA34: 2.87 | AB34: 2.76 | AC34: 2.69 | AD34: 2.68 | AE34: 2.73 | AF34: 2.73 | AG34: 2.72 | AH34: 2.67 | AI34: 2.56 | AJ34: 2.47 | AK34: 2.43 | AL34: 2.45 | AM34: 2.48 | AN34: 2.5 | AO34: 2.57 | AP34: 2.67 | AQ34: 2.73 | AR34: 2.8 | AS34: 2.85 | AT34: 2.88 | AU34: 2.91 | AV34: 2.93 | AW34: 2.94 | AX34: 2.93
A36: Information for investors and shareholders: | B36: Informacje dla inwestorów i akcjonariuszy:
A37: Number of shares 6 | B37: Liczba akcji 6 | C37: 130100000 | D37: 130100000 | E37: 130100000 | F37: 130100000 | G37: 130100000 | H37: 130100000 | I37: 130100000 | J37: 130100000 | K37: 130100000 | L37: 130100000 | M37: 130100000 | N37: 130100000 | O37: 130100000 | P37: 130100000 | Q37: 130100000 | R37: 130100000 | S37: 130100000 | T37: 130100000 | U37: 130100000 | V37: 130100000 | W37: 130100000 | X37: 130100000 | Y37: 130100000 | Z37: 130100000 | AA37: 130100000 | AB37: 130100000 | AC37: 130100000 | AD37: 130100000 | AE37: 130100000 | AF37: 130100000 | AG37: 130100000 | AH37: 130100000 | AI37: 130100000 | AJ37: 130100000 | AK37: 130100000 | AL37: 130100000 | AM37: 130100000 | AN37: 130100000 | AO37: 130100000 | AP37: 130100000 | AQ37: 130100000 | AR37: 130100000 | AS37: 130100000 | AT37: 130100000 | AU37: 130100000 | AV37: 130100000 | AW37: 130100000 | AX37: 130100000
A38: Net book value | B38: Wartość księgowa | C38: 3902.3 | D38: 3622 | E38: 3820.4 | F38: 3838.8 | G38: 4013.7 | H38: 3977.6 | I38: 4277.9 | J38: 4222.2 | K38: 4280.9 | L38: 4514.6 | M38: 4742.1 | N38: 4884.4 | O38: 5131.7 | P38: 5280.2 | Q38: 5529.5 | R38: 5650.8 | S38: 5782 | T38: 5951.5 | U38: 6194.6 | V38: 6413.7 | W38: 6751.1 | X38: 6978.8 | Y38: =Y19 -> 7424.9 | Z38: =Z19 -> 8133.8 | AA38: =AA19 -> 8236.5 | AB38: =AB19 -> 8131.2 | AC38: =AC19 -> 8269.2 | AD38: =AD19 -> 8626.3 | AE38: =AE19 -> 8885.6 | AF38: =AF19 -> 9158.7 | ... AX38: =AX19 -> 13336.3
A39: Net book value per share in PLN | B39: Wartość księgowa na jedną akcję w zł | C39: =+C38/C37*1000000 -> 29.99462 | D39: =+D38/D37*1000000 -> 27.840123 | E39: =+E38/E37*1000000 -> 29.365104 | F39: =+F38/F37*1000000 -> 29.506533 | G39: =+G38/G37*1000000 -> 30.850884 | H39: =+H38/H37*1000000 -> 30.573405 | I39: =+I38/I37*1000000 -> 32.88163 | J39: =+J38/J37*1000000 -> 32.453497 | ... AX39: =+AX38/AX37*1000000 -> 102.50807
A40: Earnings per 1 share in PLN | B40: Zysk na 1 akcję w zł | C40: =(C10/C37)*1000000 -> 1.2867025 | D40: =(D10/D37)*1000000 -> 1.2897771 | E40: =(E10/E37)*1000000 -> 1.5219062 | F40: =(F10/F37)*1000000 -> 0.74942352 | G40: =(G10/G37)*1000000 -> 1.3358955 | H40: =(H10/H37)*1000000 -> 1.7963105 | I40: =(I10/I37)*1000000 -> 1.2828593 | J40: =(J10/J37)*1000000 -> -0.99154497 | ... AX40: =(AX10/AX37)*1000000 -> 3.4757879
A41: Market capitalisation | B41: Kapitalizacja giełdowa | C41: =(+C42*C37)/1000000 -> 9887.6 | D41: =+(D42*D37)/1000000 -> 13049.03 | E41: =(+E42*E37)/1000000 -> 11839.1 | F41: =(+F42*F37)/1000000 -> 9432.25 | G41: =(+G42*G37)/1000000 -> 6895.3 | H41: =+(H42*H37)/1000000 -> 5399.15 | I41: =(+I42*I37)/1000000 -> 6648.11 | J41: =(+J42*J37)/1000000 -> 5594.3 | K41: =(+K42*K37)/1000000 -> 2758.12 | L41: =+(L42*L37)/1000000 -> 4566.51 | M41: =(+M42*M37)/1000000 -> 8326.4 | N41: =(+N42*N37)/1000000 -> 10147.8 | O41: =(+O42*O37)/1000000 -> 9705.46 | P41: =+(P42*P37)/1000000 -> 9822.55 | Q41: =(+Q42*Q37)/1000000 -> 10733.25 | R41: =(+R42*R37)/1000000 -> 11630.94 | S41: =(+S42*S37)/1000000 -> 11630.94 | T41: =+(T42*T37)/1000000 -> 11227.63 | U41: =(+U42*U37)/1000000 -> 9627.4 | V41: =(+V42*V37)/1000000 -> 10225.86 | W41: =(+W42*W37)/1000000 -> 11500.84 | X41: =(+X42*X37)/1000000 -> 10616.16 | Y41: =(+Y42*Y37)/1000000 -> 10941.41 | Z41: =(+Z42*Z37)/1000000 -> 11839.1 | AA41: =(+AA42*AA37)/1000000 -> 11813.08 | AB41: =(+AB42*AB37)/1000000 -> 12315.266 | ... AX41: =(+AX42*AX37)/1000000 -> 23418
A42: Share price in PLN | B42: Kurs akcji w zł | C42: 76 | D42: 100.3 | E42: 91 | F42: 72.5 | G42: 53 | H42: 41.5 | I42: 51.1 | J42: 43 | K42: 21.2 | L42: 35.1 | M42: 64 | N42: 78 | O42: 74.6 | P42: 75.5 | Q42: 82.5 | R42: 89.4 | S42: 89.4 | T42: 86.3 | U42: 74 | V42: 78.6 | W42: 88.4 | X42: 81.6 | Y42: 84.1 | Z42: 91 | AA42: 90.8 | AB42: 94.66 | AC42: 112 | AD42: 113.35 | AE42: 132.5 | AF42: 132.6 | AG42: 148 | AH42: 139.9 | AI42: 136.8 | AJ42: 127 | AK42: 119.2 | AL42: 117.15 | AM42: 121 | AN42: 123.45 | AO42: 148 | AP42: 161.4 | AQ42: 172.1 | AR42: 182.4 | AS42: 204.5 | AT42: 205.6 | AU42: 196.8 | AV42: 179 | AW42: 182.8 | AX42: 180
A44: Other quantitative data: | B44: Pozostałe dane ilościowe:
A45: Number of retail clients in thousands | B45: Liczba klientów detalicznych w tys | C45: 2193 | D45: 2239 | E45: 2323 | F45: 2369 | G45: 2458 | H45: 2530 | I45: 2648 | J45: 2729 | K45: 2764 | L45: 2806 | M45: 2841 | N45: 2898 | O45: 2945 | P45: 2997 | Q45: 3064 | R45: 3117 | S45: 3150 | T45: 3180 | U45: 3197 | V45: 3226 | W45: 3274 | X45: 3294 | Y45: 3346 | Z45: 3382 | AA45: 3413 | AB45: 3462 | AC45: 3495 | AD45: 3542 | AE45: 3545 | AF45: 3602 | AG45: 3668 | AH45: 3727 | AI45: 3806 | AJ45: 3882 | AK45: 3958 | AL45: 4015 | AM45: 4082 | AN45: 4149 | AO45: 4202 | AP45: 4272 | AQ45: 4329 | AR45: 4393 | AS45: 4468 | AT45: 4532 | AU45: 4610 | AV45: 4680 | AW45: 4757 | AX45: 4796
A46: Number of outlets | B46: Liczba placówek | C46: ='Pozostałe informacje_other info'!C13 -> 350 | D46: ='Pozostałe informacje_other info'!D13 -> 361 | E46: ='Pozostałe informacje_other info'!E13 -> 375 | F46: ='Pozostałe informacje_other info'!F13 -> 404 | G46: ='Pozostałe informacje_other info'!G13 -> 415 | H46: ='Pozostałe informacje_other info'!H13 -> 430 | I46: ='Pozostałe informacje_other info'!I13 -> 432 | J46: ='Pozostałe informacje_other info'!J13 -> 439 | ... AX46: ='Pozostałe informacje_other info'!AX13 -> 337
A47: Number of employees | B47: Liczba pracowników | C47: ='Pozostałe informacje_other info'!C7 -> 7578 | D47: ='Pozostałe informacje_other info'!D7 -> 7676 | E47: ='Pozostałe informacje_other info'!E7 -> 7828 | F47: ='Pozostałe informacje_other info'!F7 -> 8048 | G47: ='Pozostałe informacje_other info'!G7 -> 8137 | H47: ='Pozostałe informacje_other info'!H7 -> 8318 | I47: ='Pozostałe informacje_other info'!I7 -> 8330 | J47: ='Pozostałe informacje_other info'!J7 -> 8454 | ... AX47: ='Pozostałe informacje_other info'!AX7 -> 8086
A49: 1 Including net profit of affiliated entities recognised on an equity basis. | B49: 1 Łącznie z zyskiem netto jednostek stowarzyszonych wykazywanych metodą praw własności.
A50: 2 Attributable to the shareholders of the parent entity. | B50: 2 Przypadający na akcjonariuszy jednostki dominującej.
A51: 3 Excluding T-eurobonds | B51: 3 Z wyłączeniem portfela Euroobligacji
...

Sheet RZiS_P&L
A1: Comparable data pro-forma | B1: Dane porównywalne pro-forma
A2: CONSOLIDATED INCOME STATEMENT of the ING Bank Śląski Group S.A. | B2: SKONSOLIDOWANY RACHUNEK ZYSKÓW I STRAT Grupy Kapitałowej ING Banku Śląskiego S.A. | C2: 2007 | G2: 2008 | K2: 2009 | O2: 2010 | S2: 2011 | W2: 2012 | AA2: 2013 | AE2: 2014 | AI2: 2015 | AM2: 2016 | AQ2: 2017 | AU2: 2018
C3: 1Q | D3: 2Q | E3: 3Q | F3: 4Q | G3: 1Q | H3: 2Q | I3: 3Q | J3: 4Q | K3: 1Q | L3: 2Q | M3: 3Q | N3: 4Q | O3: 1Q | P3: 2Q | Q3: 3Q | R3: 4Q | S3: 1Q | T3: 2Q | U3: 3Q | V3: 4Q | W3: 1Q | X3: 2Q | Y3: 3Q | Z3: 4Q | AA3: 1Q | AB3: 2Q | AC3: 3Q | AD3: 4Q | AE3: 1Q | AF3: 2Q | AG3: 3Q | AH3: 4Q | AI3: 1Q | AJ3: 2Q | AK3: 3Q | AL3: 4Q | AM3: 1Q | AN3: 2Q | AO3: 3Q | AP3: 4Q | AQ3: 1Q | AR3: 2Q | AS3: 3Q | AT3: 4Q | AU3: 1Q | AV3: 2Q | AW3: 3Q | AX3: 4Q
A4: (PLN million) | B4: (w mln zł)
A5: - Interest income | B5: - Przychody z tytułu odsetek w tym | C5: 556 | D5: 586 | E5: 618.3 | F5: 673.3 | G5: 750.5 | H5: 855.3 | I5: 910.1 | J5: 982.8 | K5: 860.8 | L5: 773.3 | M5: 732.1 | N5: 711.5 | O5: 726.8 | P5: 723.1 | Q5: 747.3 | R5: 751.5 | S5: 772.6 | T5: 833.6 | U5: 882.3 | V5: 897 | W5: 945.2 | X5: 945.2 | Y5: 963.2 | Z5: 977.9 | AA5: 925.1 | AB5: 902.8 | AC5: 895.4 | AD5: 891.4 | AE5: 903.8 | AF5: 932.6 | AG5: 962.2 | AH5: 925.9 | AI5: 887 | AJ5: 878 | AK5: 928.5 | AL5: 935.1 | AM5: 935 | AN5: 961.2 | AO5: 1010.5 | AP5: 1016.2 | AQ5: 1004.3 | AR5: 1040.6 | AS5: 1081.6 | AT5: 1111 | AU5: 1098.1 | AV5: 1150.2 | AW5: 1194.7 | AX5: 1230.8
A6: Interest income on assets measured at amortised cost | B6: przychody odsetkowe od aktywów wycenianych wg zamortyzowanego kosztu | C6: - | D6: - | E6: - | F6: - | G6: - | H6: - | I6: - | J6: - | K6: - | L6: - | M6: - | N6: - | O6: - | P6: - | Q6: - | R6: - | S6: - | T6: - | U6: - | V6: - | W6: - | X6: - | Y6: - | Z6: - | AA6: - | AB6: - | AC6: - | AD6: - | AE6: - | AF6: - | AG6: - | AH6: - | AI6: - | AJ6: - | AK6: - | AL6: - | AM6: - | AN6: - | AO6: - | AP6: - | AQ6: - | AR6: - | AS6: - | AT6: - | AU6: 1096.8 | AV6: 1148.8 | AW6: 1193.4 | AX6: 1229.5
A7: Other interest income | B7: pozostałe przychody odsetkowe | C7: - | D7: - | E7: - | F7: - | G7: - | H7: - | I7: - | J7: - | K7: - | L7: - | M7: - | N7: - | O7: - | P7: - | Q7: - | R7: - | S7: - | T7: - | U7: - | V7: - | W7: - | X7: - | Y7: - | Z7: - | AA7: - | AB7: - | AC7: - | AD7: - | AE7: - | AF7: - | AG7: - | AH7: - | AI7: - | AJ7: - | AK7: - | AL7: - | AM7: - | AN7: - | AO7: - | AP7: - | AQ7: - | AR7: - | AS7: - | AT7: - | AU7: 1.3 | AV7: 1.4 | AW7: 1.3 | AX7: 1.3
A8: - Interest expenses | B8: - Koszty odsetek | C8: =320.1-0.2 -> 319.9 | D8: 339.1 | E8: 363.7 | F8: 410.1 | G8: 467.1 | H8: 539.5 | I8: 589.2 | J8: 650.3 | K8: 549.7 | L8: 414.3 | M8: 354.1 | N8: 357.1 | O8: 336.4 | P8: 317.8 | Q8: 337.1 | R8: 329.8 | S8: 337.7 | T8: 374.1 | U8: 404.9 | V8: 417.3 | W8: 431.7 | X8: 431.1 | Y8: 447.7 | Z8: 472.1 | AA8: 449.3 | AB8: 407.5 | AC8: 369.3 | AD8: 346 | AE8: 335.9 | AF8: 350.4 | AG8: 365.3 | AH8: 342.7 | AI8: 318 | AJ8: 283.9 | AK8: 283.9 | AL8: 275.7 | AM8: 266.9 | AN8: 270.3 | AO8: 225.6 | AP8: 206.7 | AQ8: 209.5 | AR8: 210.1 | AS8: 212.7 | AT8: 215.8 | AU8: 215.1 | AV8: 230.2 | AW8: 233.5 | AX8: 235.7
A9: Net interest income | B9: Wynik z tytułu odsetek | C9: =C5-C8 -> 236.1 | D9: =D5-D8 -> 246.9 | E9: =E5-E8 -> 254.6 | F9: =F5-F8 -> 263.2 | G9: =G5-G8 -> 283.4 | H9: =H5-H8 -> 315.8 | I9: =I5-I8 -> 320.9 | J9: =J5-J8 -> 332.5 | ... AX9: =AX5-AX8 -> 995.1
A10: - Commission income | B10: - Przychody z tytułu prowizji | C10: 239 | D10: 248.5 | E10: =251.9-0.1 -> 251.8 | F10: 241.5 | G10: 228.8 | H10: 235.7 | I10: 244.7 | J10: 268.5 | K10: =256.1-0.1 -> 256 | L10: =275.3-0.7 -> 274.6 | M10: =278 -> 278 | N10: =275.7-0.2 -> 275.5 | O10: =264.1-0.1 -> 264 | P10: =277.6-0.1 -> 277.5 | Q10: =287.2-0.4 -> 286.8 | R10: =288.2-0.4 -> 287.8 | S10: =285.9-0.3 -> 285.6 | T10: =295.7-0.7 -> 295 | U10: =297.7-0.5 -> 297.2 | V10: =290.8-0.9 -> 289.9 | W10: =280.7-0.7-0.3 -> 279.7 | X10: =285.4-0.8-0.3 -> 284.3 | Y10: =283.8-0.8-0.3 -> 282.7 | Z10: =292.6-1.6-0.3 -> 290.7 | AA10: =271.3-0.3-0.1-0.3 -> 270.6 | AB10: =294.2-0.5-10.3-0.2-0.1-0.3 -> 282.8 | AC10: =263.4-1.2+5.1-0.3-1-0.3 -> 265.7 | AD10: =292.2-0.5-1.8-0.3 -> 289.6 | AE10: =297.7-0.9-0.3 -> 296.5 | AF10: =305.8-0.2-0.3 -> 305.3 | AG10: =286.4-0.6-0.3 -> 285.5 | AH10: =280-0.3 -> 279.7 | AI10: =277-1.3 -> 275.7 | AJ10: =291.3-0.3 -> 291 | AK10: =279.8-0.3 -> 279.5 | AL10: =286.6-0.3 -> 286.3 | AM10: =285.6-1.7 -> 283.9 | AN10: =294.7-0.3 -> 294.4 | AO10: =303.1-0.3 -> 302.8 | AP10: 320.2 | AQ10: 323.2 | AR10: 327.6 | AS10: 343.3 | AT10: 349 | AU10: 350.8 | AV10: 381.5 | AW10: 355.3 | AX10: 372.6
A11: - Commission expenses | B11: - Koszty prowizji | C11: =16.7-1 -> 15.7 | D11: =15.2-1 -> 14.2 | E11: =21.1-1 -> 20.1 | F11: =29-1 -> 28 | G11: =22.1-1.2 -> 20.9 | H11: =19.9-1.2 -> 18.7 | I11: =16.4-1.2 -> 15.2 | J11: =29.6-1.2 -> 28.4 | K11: =22.1-4.1-0.1 -> 17.9 | L11: =25.4-4.1-0.7 -> 20.6 | M11: =25-4.1 -> 20.9 | N11: =48.2-4.1-0.2 -> 43.9 | O11: =35.6-3.9-0.1 -> 31.6 | P11: =30.7-3.9-0.1 -> 26.7 | Q11: =31.6-3.9-0.4 -> 27.3 | R11: =31.9-3.9-0.4 -> 27.6 | S11: =34.5-9.1-0.3 -> 25.1 | T11: =37.3-9.1-0.7 -> 27.5 | U11: =36.3-9.1-0.5 -> 26.7 | V11: =40.8-9.1-0.9 -> 30.8 | W11: =33.7-11-0.7-0.3 -> 21.7 | X11: =35-11-0.8-0.3 -> 22.9 | Y11: =32.6-11-0.8-0.3 -> 20.5 | Z11: =36.9-11-1.6-0.3 -> 24 | AA11: =31.5-11.3-0.3-0.1-0.3 -> 19.5 | AB11: =33.8-11.4-0.2-0.1-0.3 -> 21.8 | AC11: =33.6-11.3-0.3-1-0.3 -> 20.7 | AD11: =38.7-11.3-0.5-1.8-0.3 -> 24.8 | AE11: =21.6-0.9-0.3 -> 20.4 | AF11: =26.2-0.2-0.3 -> 25.7 | AG11: =28.1-0.6-0.3 -> 27.2 | AH11: =31.1-0.3 -> 30.8 | AI11: =27-1.3 -> 25.7 | AJ11: =27.8-0.3 -> 27.5 | AK11: =30.9-0.3 -> 30.6 | AL11: =31.8-0.3 -> 31.5 | AM11: =31.7-1.7 -> 30 | AN11: =36.6-0.3 -> 36.3 | AO11: =33.8-0.3 -> 33.5 | AP11: 36.7 | AQ11: 32.4 | AR11: 34.5 | AS11: 33.4 | AT11: 46.8 | AU11: 32.7 | AV11: 41.9 | AW11: 38.8 | AX11: 41.9
A12: Net commission income | B12: Wynik z tytułu prowizji | C12: =C10-C11 -> 223.3 | D12: =D10-D11 -> 234.3 | E12: =E10-E11 -> 231.7 | F12: =F10-F11 -> 213.5 | G12: =G10-G11 -> 207.9 | H12: =H10-H11 -> 217 | I12: =I10-I11 -> 229.5 | J12: =J10-J11 -> 240.1 | ... AX12: =AX10-AX11 -> 330.7
A13: - Net income on financial instruments measured at fair value through profit or loss and FX result | B13: - Wynik na instrumentach finansowych wycenianych przez rachunek zysków i strat oraz wynik z pozycji wymiany | C13: 37.8 | D13: 17.4 | E13: 36.3 | F13: -8.5 | G13: 72.5 | H13: 64.8 | I13: 53.4 | J13: -307.9 | K13: -24 | L13: 43.6 | M13: 58.8 | N13: 19.5 | O13: 28.5 | P13: 22.8 | Q13: 24.4 | R13: 1.8 | S13: 26.8 | T13: =11.5-0.1 -> 11.4 | U13: -8.1 | V13: -11.8 | W13: 53.7 | X13: 12.3 | Y13: 18.9 | Z13: 0.6 | AA13: =17.1-1 -> 16.1 | AB13: =24+10.3-5.2 -> 29.1 | AC13: =41.5-5.1-16.2 -> 20.2 | AD13: 10.1 | AE13: =25.3-0.4 -> 24.9 | AF13: =22.8 -> 22.8 | AG13: 23.6 | AH13: 23.1 | AI13: 15.2 | AJ13: 27.5 | AK13: 19.5 | AL13: 22.9 | AM13: 23 | AN13: 5.1 | AO13: 16.4 | AP13: 12.7 | AQ13: 36.7 | AR13: 27.6 | AS13: 31.3 | AT13: 23.2 | AU13: 18 | AV13: 24.4 | AW13: 27.1 | AX13: 21.4
A14: - Net income on the sale of securities and dividend income | B14: - Wynik na sprzedaży papierów wartościowych oraz przychody z tytułu dywidend | C14: - | D14: - | E14: - | F14: - | G14: - | H14: - | I14: - | J14: - | K14: - | L14: - | M14: - | N14: - | O14: - | P14: - | Q14: - | R14: - | S14: - | T14: - | U14: - | V14: - | W14: - | X14: - | Y14: - | Z14: - | AA14: - | AB14: - | AC14: - | AD14: - | AE14: - | AF14: - | AG14: - | AH14: - | AI14: - | AJ14: - | AK14: - | AL14: - | AM14: - | AN14: - | AO14: - | AP14: - | AQ14: - | AR14: - | AS14: - | AT14: - | AU14: 33.3 | AV14: 18.2 | AW14: 0 | AX14: 3.8
A15: - Net income on investments | B15: - Wynik na inwestycjach | C15: 16.9 | D15: 6.1 | E15: 1.9 | F15: 0.1 | G15: 0.1 | H15: 24.1 | I15: -0.3 | J15: 6.9 | K15: 0.3 | L15: 8.3 | M15: 5.4 | N15: -10.7 | O15: 4 | P15: 3 | Q15: 0.8 | R15: -5.6 | S15: 18.2 | T15: 6.2 | U15: 7.7 | V15: 5.9 | W15: 19.1 | X15: 6.6 | Y15: -0.9 | Z15: -0.2 | AA15: =120.4-20.9 -> 99.5 | AB15: =-0.3+6.8 -> 6.5 | AC15: =-11.7+3 -> -8.7 | AD15: 0.4 | AE15: =0.1+0.2 -> 0.3 | AF15: 4.9 | AG15: 5.2 | AH15: 5.4 | AI15: =51.5-0.6 -> 50.9 | AJ15: 90.6 | AK15: 23.2 | AL15: 0.3 | AM15: 28.7 | AN15: 196.6 | AO15: 4 | AP15: 3 | AQ15: 10.2 | AR15: 32.8 | AS15: 3.6 | AT15: 0 | AU15: - | AV15: - | AW15: - | AX15: -
A16: - Net income on hedge accounting | B16: - Wynik na rachunkowości zabezpieczeń | C16: 0 | D16: -0.2 | E16: 1.6 | F16: -0.6 | G16: 0.7 | H16: -0.7 | I16: 2.7 | J16: 1.9 | K16: 17.9 | L16: 6 | M16: -6.7 | N16: 2.9 | O16: -6.9 | P16: -15.3 | Q16: -7.9 | R16: 18 | S16: -16.3 | T16: -3.2 | U16: =-23.6 -> -23.6 | V16: =9.7 -> 9.7 | W16: 1.7 | X16: -5.2 | Y16: -5.5 | Z16: -4.3 | AA16: =-19+20.9+1 -> 2.9 | AB16: =11.5-6.8+5.2 -> 9.9 | AC16: =2.3+16.2-3 -> 15.5 | AD16: 3.7 | AE16: =0.6+0.4-0.2 -> 0.8 | AF16: 3 | AG16: 7.2 | AH16: -2.1 | AI16: =10.8+0.6 -> 11.4 | AJ16: 3.3 | AK16: 2.6 | AL16: 5.6 | AM16: -2.6 | AN16: 0.5 | AO16: 0.2 | AP16: -0.7 | AQ16: 2 | AR16: 8.3 | AS16: 1.3 | AT16: 3.7 | AU16: 2.2 | AV16: 2 | AW16: -0.7 | AX16: 4.4
A17: - Net income on other basic activities | B17: - Wynik na pozostałej działalności podstawowej | C17: 12.7 | D17: 6.8 | E17: 6.6 | F17: -5.2 | G17: 6.5 | H17: -9.5 | I17: 1 | J17: 21 | K17: 7.9 | L17: 2.7 | M17: 5.4 | N17: -24.1 | O17: 6.3 | P17: 5 | Q17: 6.5 | R17: -9.9 | S17: 7.8 | T17: 4.9 | U17: 2.7 | V17: 1.4 | W17: 4 | X17: 3.1 | Y17: 3.7 | Z17: 4.6 | AA17: 9.8 | AB17: 4.5 | AC17: 3.7 | AD17: 2.7 | AE17: 2.6 | AF17: 4.1 | AG17: 6.1 | AH17: 7.5 | AI17: 9.5 | AJ17: 2.4 | AK17: -1.7 | AL17: 10.6 | AM17: 4.5 | AN17: 1.2 | AO17: -0.3 | AP17: 14 | AQ17: 0.8 | AR17: -0.7 | AS17: -0.1 | AT17: 3 | AU17: 2.3 | AV17: 6 | AW17: 2 | AX17: 4.1
A18: Result on basic activities | B18: Wynik na działalności podstawowej | C18: =C9+C12+C13+C15+C16+C17 -> 526.8 | D18: =D9+D12+D13+D15+D16+D17 -> 511.3 | E18: =E9+E12+E13+E15+E16+E17 -> 532.7 | F18: =F9+F12+F13+F15+F16+F17 -> 462.5 | G18: =G9+G12+G13+G15+G16+G17 -> 571.1 | H18: =H9+H12+H13+H15+H16+H17 -> 611.5 | I18: =I9+I12+I13+I15+I16+I17 -> 607.2 | J18: =J9+J12+J13+J15+J16+J17 -> 294.5 | ... AT18: =AT9+AT12+AT13+AT15+AT16+AT17 -> 1227.3 | AU18: =AU9+AU12+AU13+AU16+AU17+AU14 -> 1256.9 | AV18: =AV9+AV12+AV13+AV16+AV17+AV14 -> 1310.2 | AW18: =AW9+AW12+AW13+AW16+AW17+AW14 -> 1306.1 | AX18: =AX9+AX12+AX13+AX16+AX17+AX14 -> 1359.5
A19: - General and administrative expenses | B19: - Koszty działania banku | C19: 336.1 | D19: 345 | E19: 356.9 | F19: 355.1 | G19: 367.7 | H19: 389.9 | I19: 407.7 | J19: 338.6 | K19: 366.8 | L19: 386.6 | M19: 397.3 | N19: 355.2 | O19: 394.4 | P19: 407.1 | Q19: 411.6 | R19: 396.4 | S19: 417.4 | T19: 431.8 | U19: 431.1 | V19: 419.7 | W19: 474.9 | X19: 465 | Y19: 466.2 | Z19: 460.1 | AA19: 482.2 | AB19: 477 | AC19: 458.8 | AD19: 450.4 | AE19: 471.2 | AF19: 480.5 | AG19: 489.5 | AH19: 488.5 | AI19: 495.6 | AJ19: 502.3 | AK19: 509.8 | AL19: 648 | AM19: 508.8 | AN19: 517.2 | AO19: 515.5 | AP19: 557.7 | AQ19: 565.6 | AR19: 512.1 | AS19: 529.6 | AT19: 528.5 | AU19: 628.3 | AV19: 555 | AW19: 577.2 | AX19: 566.3
A20: - Tax on certain financial institutions | B20: - Podatek od niektórych instytucji finansowych | C20: 0 | D20: 0 | E20: 0 | F20: 0 | G20: 0 | H20: 0 | I20: 0 | J20: 0 | K20: 0 | L20: 0 | M20: 0 | N20: 0 | O20: 0 | P20: 0 | Q20: 0 | R20: 0 | S20: 0 | T20: 0 | U20: 0 | V20: 0 | W20: 0 | X20: 0 | Y20: 0 | Z20: 0 | AA20: 0 | AB20: 0 | AC20: 0 | AD20: 0 | AE20: 0 | AF20: 0 | AG20: 0 | AH20: 0 | AI20: 0 | AJ20: 0 | AK20: 0 | AL20: 0 | AM20: 50.5 | AN20: 76.8 | AO20: 75.7 | AP20: 77.2 | AQ20: 79.4 | AR20: 80.4 | AS20: 84.1 | AT20: 86.2 | AU20: 87.5 | AV20: 91.1 | AW20: 94.2 | AX20: 98.9
A21: - Impairment losses and provisions for off-balance sheet liabilities | B21: - Odpisy na utratę wartości aktywów finansowych i rezerwy na zobowiązania pozabilansowe | C21: -6.3 | D21: -26.7 | E21: -64.4 | F21: -5.8 | G21: 0.7 | H21: -58.8 | I21: 7.2 | J21: 116.5 | K21: 91.7 | L21: 73.8 | M21: 54.1 | N21: 84.8 | O21: 48.1 | P21: 39.2 | Q21: 55.1 | R21: 61.2 | S21: 57.1 | T21: 37.7 | U21: 27.1 | V21: 50.5 | W21: 64.3 | X21: 131.2 | Y21: 82.6 | Z21: 84.7 | AA21: 58 | AB21: =64+5.1 -> 69.1 | AC21: 63.7 | AD21: =68+7.3+1.1 -> 76.4 | AE21: 84.1 | AF21: 33.3 | AG21: 65.2 | AH21: 85.1 | AI21: 84.3 | AJ21: 64.3 | AK21: 32 | AL21: 51.5 | AM21: 78.9 | AN21: 33.5 | AO21: 49.7 | AP21: 138.5 | AQ21: 76.4 | AR21: 123.1 | AS21: 109.1 | AT21: 112.6 | AU21: - | AV21: - | AW21: - | AX21: -
A22: - Impairment for expected losses | B22: - Odpisy z tytułu strat oczekiwanych | C22: - | D22: - | E22: - | F22: - | G22: - | H22: - | I22: - | J22: - | K22: - | L22: - | M22: - | N22: - | O22: - | P22: - | Q22: - | R22: - | S22: - | T22: - | U22: - | V22: - | W22: - | X22: - | Y22: - | Z22: - | AA22: - | AB22: - | AC22: - | AD22: - | AE22: - | AF22: - | AG22: - | AH22: - | AI22: - | AJ22: - | AK22: - | AL22: - | AM22: - | AN22: - | AO22: - | AP22: - | AQ22: - | AR22: - | AS22: - | AT22: - | AU22: 94.8 | AV22: 173.7 | AW22: 133.9 | AX22: 98.5
A23: - Share in net profit (loss) of associated entities recognised under the equity method | B23: - Udział w zyskach netto jednostek stowarzyszonych wycenianych metodą praw własności | C23: 12.4 | D23: 10.9 | E23: 9.6 | F23: 10.7 | G23: 11.6 | H23: 14.2 | I23: 13 | J23: =9.3+0.1 -> 9.4 | K23: 10.1 | L23: 15.5 | M23: 10.4 | N23: 16.1 | O23: 7.3 | P23: 10.9 | Q23: 10.6 | R23: 12.4 | S23: 9.7 | T23: 13.2 | U23: 8.2 | V23: 10.1 | W23: 6.8 | X23: 11.2 | Y23: 7.6 | Z23: 10.1 | AA23: 9 | AB23: 7.8 | AC23: 9.3 | AD23: 12 | AE23: 11.2 | AF23: 1.1 | AG23: 0 | AH23: 0 | AI23: 0 | AJ23: 0 | AK23: 0 | AL23: 0 | AM23: 0 | AN23: 0 | AO23: 0 | AP23: 0 | AQ23: 0 | AR23: 0 | AS23: 0 | AT23: 0 | AU23: 0 | AV23: 0 | AW23: -0.2 | AX23: -0.1
A24: Profit (loss) before tax | B24: Zysk (strata) brutto | C24: =C18-C19-C21+C23 -> 209.4 | D24: =D18-D19-D21+D23 -> 203.9 | E24: =E18-E19-E21+E23 -> 249.8 | F24: =F18-F19-F21+F23 -> 123.9 | G24: =G18-G19-G21+G23 -> 214.3 | H24: =H18-H19-H21+H23 -> 294.6 | I24: =I18-I19-I21+I23 -> 205.3 | J24: =J18-J19-J21+J23 -> -151.2 | ... AL24: =AL18-AL19-AL21+AL23 -> 254.1 | AM24: =AM18-AM19-AM21+AM23-AM20 -> 337.4 | AN24: =AN18-AN19-AN21+AN23-AN20 -> 524.9 | AO24: =AO18-AO19-AO21+AO23-AO20 -> 433.6 | AP24: =AP18-AP19-AP21+AP23-AP20 -> 348.6 | AQ24: =AQ18-AQ19-AQ21+AQ23-AQ20 -> 413.9 | AR24: =AR18-AR19-AR21+AR23-AR20 -> 476 | AS24: =AS18-AS19-AS21+AS23-AS20 -> 492.1 | AT24: =AT18-AT19-AT21+AT23-AT20 -> 500 | AU24: =AU18-AU19+AU23-AU20-AU22 -> 446.3 | AV24: =AV18-AV19+AV23-AV20-AV22 -> 490.4 | AW24: =AW18-AW19+AW23-AW20-AW22 -> 500.6 | AX24: =AX18-AX19+AX23-AX20-AX22 -> 595.7
A25: - Income tax | B25: - Podatek dochodowy | C25: 38.6 | D25: 34.4 | E25: 50.8 | F25: 26.4 | G25: 40.5 | H25: 60.9 | I25: 38.4 | J25: -22.2 | K25: 22.1 | L25: 46 | M25: 46.2 | N25: 28.9 | O25: 42 | P25: 44.7 | Q25: 45 | R25: 49.3 | S25: 54.6 | T25: 56.1 | U25: =56.5 -> 56.5 | V25: 70.3 | W25: 46.1 | X25: 39.7 | Y25: 49.5 | Z25: 48.5 | AA25: =63.8+0.3+0.3-0.1 -> 64.3 | AB25: =52.2-0.1-1 -> 51.1 | AC25: =53.5+0.7 -> 54.2 | AD25: =63.4-1.4-0.2 -> 61.8 | AE25: 73.9 | AF25: 101.5 | AG25: 69.5 | AH25: 61.7 | AI25: 65.1 | AJ25: 70.1 | AK25: 79.6 | AL25: 48.4 | AM25: 78.2 | AN25: 118 | AO25: 101.6 | AP25: 93.6 | AQ25: 113.6 | AR25: 115.7 | AS25: 116.4 | AT25: 133.2 | AU25: 124.1 | AV25: 117.7 | AW25: 121.8 | AX25: 143.5
A26: Net profit (loss) from continuing operations | B26: Zysk (strata) netto | C26: =C24-C25 -> 170.8 | D26: =D24-D25 -> 169.5 | E26: =E24-E25 -> 199 | F26: =F24-F25 -> 97.5 | G26: =G24-G25 -> 173.8 | H26: =H24-H25 -> 233.7 | I26: =I24-I25 -> 166.9 | J26: =J24-J25 -> -129 | ... AX26: =AX24-AX25 -> 452.2
A27: - Net profit (loss) attributable to shareholders of ING Bank Śląski S.A. | B27: - przypadający akcjonariuszom ING Banku Śląskiego S.A. | C27: =C26-C28 -> 167.4 | D27: =D26-D28 -> 167.8 | E27: =E26-E28 -> 198 | F27: =F26-F28 -> 97.5 | G27: =G26-G28 -> 173.8 | H27: =H26-H28 -> 233.7 | I27: =I26-I28 -> 166.9 | J27: =J26-J28 -> -129 | ... AX27: =AX26-AX28 -> 452.2
A28: - attributable to non-controlling interests | B28: - przypadający akcjonariuszom niekontrolującym | C28: 3.4 | D28: 1.7 | E28: 1 | F28: 0 | G28: 0 | H28: 0 | I28: 0 | J28: 0 | K28: 0 | L28: 0 | M28: 0 | N28: 0 | O28: 0 | P28: 0 | Q28: 0 | R28: 0 | S28: 0 | T28: 0 | U28: 0 | V28: 0 | W28: 0 | X28: 0 | Y28: 0 | Z28: 0 | AA28: 0 | AB28: 0 | AC28: 0 | AD28: 0 | AE28: 0 | AF28: 0.1 | AG28: 0.1 | AH28: -0.1 | AI28: 0 | AJ28: 0.1 | AK28: 0 | AL28: 0 | AM28: 0 | AN28: 0 | AO28: 0 | AP28: 0.1 | AQ28: 0 | AR28: 0 | AS28: 0 | AT28: 0 | AU28: 0 | AV28: 0 | AW28: 0 | AX28: 0

Sheet RZiS B. Korp._P&L Corporate
A1: Comparable data pro-forma | B1: Dane porównywalne pro-forma
A2: CONSOLIDATED INCOME STATEMENT Corporate customers segment | B2: SKONSOLIDOWANY RACHUNEK ZYSKÓW I STRAT Segment bankowości korporacyjnej | C2: 2007 | G2: 2008 | K2: 2009 | O2: 2010 | S2: 2011 | W2: 2012 | AA2: 2013 | AE2: 2014 | AI2: 2015 | AM2: 2016 | AQ2: 2017 | AT2: 2017 | AU2: 2018
C3: 1Q | D3: 2Q | E3: 3Q | F3: 4Q | G3: 1Q | H3: 2Q | I3: 3Q | J3: 4Q | K3: 1Q | L3: 2Q | M3: 3Q | N3: 4Q | O3: 1Q | P3: 2Q | Q3: 3Q | R3: 4Q | S3: 1Q | T3: 2Q | U3: 3Q | V3: 4Q | W3: 1Q | X3: 2Q | Y3: 3Q | Z3: 4Q | AA3: 1Q | AB3: 2Q | AC3: 3Q | AD3: 4Q | AE3: 1Q | AF3: 2Q | AG3: 3Q | AH3: 4Q | AI3: 1Q | AJ3: 2Q | AK3: 3Q | AL3: 4Q | AM3: 1Q | AN3: 2Q | AO3: 3Q | AP3: 4Q | AQ3: 1Q | AR3: 2Q | AS3: 3Q | AT3: 4Q | AU3: 1Q | AV3: 2Q | AW3: 3Q | AX3: 4Q
A4: (PLN million) | B4: (w mln zł)
A5: Revenue total* | B5: Przychody ogółem* | C5: =SUM(C6:C9) -> 219.23446 | D5: =SUM(D6:D9) -> 212.83446 | E5: =SUM(E6:E9) -> 221.73446 | F5: =SUM(F6:F9) -> 192.53446 | G5: =SUM(G6:G9) -> 285.24199 | H5: =SUM(H6:H9) -> 273.34199 | I5: =SUM(I6:I9) -> 277.34199 | J5: =SUM(J6:J9) -> 34.441991 | ... AX5: =SUM(AX6:AX9) -> 587.2
A6: Net interest income | B6: wynik z tytułu odsetek | C6: 98.1 | D6: 102.6 | E6: 105.8 | F6: 109.4 | G6: 129.1 | H6: 169.8 | I6: 150.3 | J6: 220.5 | K6: 188.1 | L6: 146 | M6: 224.9 | N6: 201.4 | O6: 212.4 | P6: 203.1 | Q6: 211.1 | R6: 185.2 | S6: 196.6 | T6: 213.7 | U6: 243.5 | V6: 242.8 | W6: 258.72618 | X6: 248.32618 | Y6: 239.32618 | Z6: 256.32618 | AA6: 233.61963 | AB6: 235.29098 | AC6: 244.47208 | AD6: 248.55786 | AE6: 250.5 | AF6: 235.5 | AG6: 234.6 | AH6: 241.7 | AI6: 224.6 | AJ6: 220.9 | AK6: 239.8 | AL6: =265.3-0.4 -> 264.9 | AM6: 265.3 | AN6: =261.3-0.1 -> 261.2 | AO6: =278+0.1 -> 278.1 | AP6: 286.2 | AQ6: 286.6 | AR6: 313.8 | AS6: 325.2 | AT6: 330.5 | AU6: 330 | AV6: 325.5 | AW6: 348.3 | AX6: 371.7
A7: Net commission income | B7: wynik z tytułu prowizji | C7: 93.134462 | D7: 97.734462 | E7: 96.634462 | F7: 89.034462 | G7: 83.641991 | H7: 70.841991 | I7: 88.741991 | J7: 50.741991 | K7: 91.314958 | L7: 104.41496 | M7: 97.314958 | N7: 143.21496 | O7: 115.13383 | P7: 91.633829 | Q7: 98.633829 | R7: 163.73383 | S7: 129.65274 | T7: 140.05274 | U7: 148.15274 | V7: 135.75274 | W7: 140.82925 | X7: 145.92925 | Y7: 144.62925 | Z7: 146.52925 | AA7: 144.23267 | AB7: 147.46675 | AC7: 147.5657 | AD7: 145.40457 | AE7: 154.2 | AF7: 156.5 | AG7: 160.4 | AH7: 155.4 | AI7: 160.5 | AJ7: 168.7 | AK7: 157.1 | AL7: =167.8+0.1 -> 167.9 | AM7: 163.8 | AN7: =165.9+0.1 -> 166 | AO7: =170.9-0.1 -> 170.8 | AP7: 183.5 | AQ7: 186.1 | AR7: 182.1 | AS7: 201.9 | AT7: 199 | AU7: 209.4 | AV7: 212.4 | AW7: 204.9 | AX7: 223.1
A8: Other income/expenses | B8: pozostałe przychody/koszty | C8: 28 | D8: 12.5 | E8: 19.3 | F8: -5.9 | G8: 72.5 | H8: 32.7 | I8: 38.3 | J8: -236.8 | K8: -16.4 | L8: 84.7 | M8: 45 | N8: -61.8 | O8: 25.7 | P8: 26.7 | Q8: 23.8 | R8: -37 | S8: 26.1 | T8: =4.2 -> 4.2 | U8: -33.2 | V8: -2.1 | W8: 29.517732 | X8: -12.782268 | Y8: -7.0822685 | Z8: -25.882268 | AA8: 37.478428 | AB8: 10.389666 | AC8: -9.1658803 | AD8: -10.014942 | AE8: -6.1 | AF8: 8.9 | AG8: 9.2 | AH8: 0.6 | AI8: 41.3 | AJ8: 22.2 | AK8: 9.6 | AL8: =12.4-0.1 -> 12.3 | AM8: 19.1 | AN8: 9.7 | AO8: =17.7-0.1 -> 17.6 | AP8: 31.1 | AQ8: 27.1 | AR8: 18.7 | AS8: 9 | AT8: 10.5 | AU8: 9.7 | AV8: 17.6 | AW8: 8 | AX8: -7.5
A9: Share in net profit (loss) of associated entities recognised under the equity method | B9: udział w zyskach (stratach) netto jednostek stowarzyszonych wykazywanych metodą praw własności | C9: 0 | D9: 0 | E9: 0 | F9: 0 | G9: 0 | H9: 0 | I9: 0 | J9: 0 | K9: 0 | L9: 0 | M9: 0 | N9: 0 | O9: 0 | P9: 0 | Q9: 0 | R9: 0 | S9: 0 | T9: 0 | U9: 0 | V9: 0 | W9: 0 | X9: 0 | Y9: 0 | Z9: 0 | AA9: 0 | AB9: 0 | AC9: 0 | AD9: 0 | AE9: 0 | AF9: 0 | AG9: 0 | AH9: 0 | AI9: 0 | AJ9: 0 | AK9: 0 | AL9: 0 | AM9: 0 | AN9: 0 | AO9: 0 | AP9: 0 | AQ9: 0 | AR9: 0 | AS9: 0 | AT9: 0 | AU9: 0 | AV9: 0 | AW9: -0.2 | AX9: -0.1
A10: Expenses total | B10: Koszty ogółem | C10: =SUM(C11:C13) -> 122.83446 | D10: =SUM(D11:D13) -> 126.33446 | E10: =SUM(E11:E13) -> 130.53446 | F10: =SUM(F11:F13) -> 130.33446 | G10: =SUM(G11:G13) -> 133.34199 | H10: =SUM(H11:H13) -> 138.34199 | I10: =SUM(I11:I13) -> 157.24199 | J10: =SUM(J11:J13) -> 110.04199 | ... AX10: =SUM(AX11:AX13) -> 228.8
A11: Personnel expenses | B11: koszty osobowe | C11: 56.3 | D11: 61.3 | E11: 63.6 | F11: 70.8 | G11: 68.9 | H11: 69.7 | I11: 79.5 | J11: 78.5 | K11: 54.6 | L11: 72.1 | M11: 68.2 | N11: 83.4 | O11: 68.9 | P11: 71.6 | Q11: 75.3 | R11: 97.2 | S11: 78.3 | T11: 91.7 | U11: 88.8 | V11: 89.6 | W11: 98.371882 | X11: 85.770249 | Y11: 93.128729 | Z11: 108.22302 | AA11: 97.831768 | AB11: 96.990185 | AC11: 99.186031 | AD11: 88.889015 | AE11: 98.9 | AF11: 103 | AG11: 104.6 | AH11: 98.5 | AI11: 103.5 | AJ11: 101.9 | AK11: 105.7 | AL11: 106.1 | AM11: 107.5 | AN11: 106.4 | AO11: 108.4 | AP11: 117.9 | AQ11: 106.4 | AR11: 107.4 | AS11: 107.5 | AT11: 107.3 | AU11: 113 | AV11: 117.7 | AW11: 116.6 | AX11: 98.4
A12: Depreciation | B12: amortyzacja | C12: 12.6 | D12: 13.2 | E12: 12.7 | F12: 17.8 | G12: 8.3 | H12: 8 | I12: 9.4 | J12: 8.6 | K12: 7.7 | L12: 7.7 | M12: 6.1 | N12: 7.9 | O12: 7.5 | P12: 7.5 | Q12: 7.9 | R12: 8.5 | S12: 8.7 | T12: 9.8 | U12: 9.5 | V12: 11.2 | W12: 9.3981722 | X12: 9.6978172 | Y12: 9.5887882 | Z12: 14.187547 | AA12: 11.062966 | AB12: 11.910295 | AC12: 11.679973 | AD12: 12.561587 | AE12: 11.6 | AF12: 11.8 | AG12: 12.5 | AH12: 16.9 | AI12: 12.3 | AJ12: 10.8 | AK12: 14.6 | AL12: 10.7 | AM12: 9.7 | AN12: 10.8 | AO12: 10.1 | AP12: 24.1 | AQ12: 10.7 | AR12: 9.3 | AS12: 9.7 | AT12: 10.3 | AU12: 11 | AV12: 9.3 | AW12: 11.1 | AX12: 20.8
A13: Other | B13: pozostałe | C13: 53.934462 | D13: 51.834462 | E13: 54.234462 | F13: 41.734462 | G13: 56.141991 | H13: 60.641991 | I13: 68.341991 | J13: 22.941991 | K13: 74.214958 | L13: 57.614958 | M13: 69.614958 | N13: 29.714958 | O13: 68.533829 | P13: 70.233829 | Q13: 63.533829 | R13: 37.733829 | S13: 75.852736 | T13: 75.052736 | U13: 69.552736 | V13: 69.852736 | W13: 79.929371 | X13: 85.027601 | Y13: 83.082564 | Z13: 64.976375 | AA13: 71.495361 | AB13: 71.268539 | AC13: 66.329555 | AD13: 74.941174 | AE13: 76.5 | AF13: 76.5 | AG13: 85.9 | AH13: 80.8 | AI13: 68.2 | AJ13: 86.4 | AK13: 76.9 | AL13: 141.2 | AM13: 87.1 | AN13: 98 | AO13: =79.7-0.1 -> 79.6 | AP13: 104 | AQ13: 102.9 | AR13: 88.2 | AS13: 94.9 | AT13: 108.5 | AU13: 131.7 | AV13: 96.8 | AW13: 105.6 | AX13: 109.6
A14: Result before risk costs | B14: Wynik segmentu | C14: =C5-C10 -> 96.4 | D14: =D5-D10 -> 86.5 | E14: =E5-E10 -> 91.2 | F14: =F5-F10 -> 62.2 | G14: =G5-G10 -> 151.9 | H14: =H5-H10 -> 135 | I14: =I5-I10 -> 120.1 | J14: =J5-J10 -> -75.6 | ... AX14: =AX5-AX10 -> 358.4
A15: Risk cost | B15: koszty ryzyka | C15: -3.9 | D15: -16.3 | E15: -39.4 | F15: -3.6 | G15: 3.3 | H15: -64.8 | I15: 2.3 | J15: 96.4 | K15: 78.9 | L15: 67 | M15: 32.7 | N15: 62 | O15: 26.9 | P15: 26.2 | Q15: 33.8 | R15: 35.6 | S15: 23.2 | T15: 16.5 | U15: 6.1 | V15: 36.4 | W15: 45.1 | X15: 106 | Y15: 61.1 | Z15: 60.5 | AA15: 20.019079 | AB15: 28.671282 | AC15: 30.689722 | AD15: 59.384944 | AE15: 47.4 | AF15: 22.7 | AG15: 52 | AH15: 66.9 | AI15: 50.5 | AJ15: 40.7 | AK15: 24.2 | AL15: =46.9+0.1-0.1 -> 46.9 | AM15: 62.5 | AN15: 12.9 | AO15: =28.2-3.9 -> 24.3 | AP15: 63.4 | AQ15: 33.6 | AR15: 79.3 | AS15: 69.3 | AT15: 78.7 | AU15: 57.3 | AV15: 70.4 | AW15: 92.2 | AX15: 10
A16: Tax on certain financial institutions | B16: podatek od niektórych instytucji finansowych | C16: 0 | D16: 0 | E16: 0 | F16: 0 | G16: 0 | H16: 0 | I16: 0 | J16: 0 | K16: 0 | L16: 0 | M16: 0 | N16: 0 | O16: 0 | P16: 0 | Q16: 0 | R16: 0 | S16: 0 | T16: 0 | U16: 0 | V16: 0 | W16: 0 | X16: 0 | Y16: 0 | Z16: 0 | AA16: 0 | AB16: 0 | AC16: 0 | AD16: 0 | AE16: 0 | AF16: 0 | AG16: 0 | AH16: 0 | AI16: 0 | AJ16: 0 | AK16: 0 | AL16: 0 | AM16: 32.8 | AN16: =49 -> 49 | AO16: =48.1+0.1 -> 48.2 | AP16: 48.5 | AQ16: 47.5 | AR16: 52 | AS16: 51.7 | AT16: 52.4 | AU16: 51.8 | AV16: 53.1 | AW16: 54.7 | AX16: 57.2
A17: Profit before tax | B17: Wynik segmentu z uwzględnieniem kosztów ryzyka (wynik finansowy brutto) | C17: =C14-C15 -> 100.3 | D17: =D14-D15 -> 102.8 | E17: =E14-E15 -> 130.6 | F17: =F14-F15 -> 65.8 | G17: =G14-G15 -> 148.6 | H17: =H14-H15 -> 199.8 | I17: =I14-I15 -> 117.8 | J17: =J14-J15 -> -172 | ... AL17: =AL14-AL15 -> 140.2 | AM17: =AM14-AM15-AM16 -> 148.6 | AN17: =AN14-AN15-AN16 -> 159.8 | AO17: =AO14-AO15-AO16 -> 195.9 | AP17: =AP14-AP15-AP16 -> 142.9 | AQ17: =AQ14-AQ15-AQ16 -> 198.7 | AR17: =AR14-AR15-AR16 -> 178.4 | AS17: =AS14-AS15-AS16 -> 203 | AT17: =AT14-AT15-AT16 -> 182.8 | ... AX17: =AX14-AX15-AX16 -> 291.2
A19: */ including the share in net profit of affiliated units shown using the method of ownership rights | B19: */ włączając udział w zyskach netto jednostek stowarzyszonych wykazywanych metodą praw własności

Sheet RZiS B. Detaliczna_P&L Retail
A1: Comparable data pro-forma | B1: Dane porównywalne pro-forma
A2: CONSOLIDATED INCOME STATEMENT Retail customers segment | B2: SKONSOLIDOWANY RACHUNEK ZYSKÓW I STRAT Segment klientów detalicznych | C2: 2007 | G2: 2008 | K2: 2009 | O2: 2010 | S2: 2011 | W2: 2012 | AA2: 2013 | AE2: 2014 | AI2: 2015 | AM2: 2016 | AQ2: 2017 | AT2: 2017 | AU2: 2018
C3: 1Q | D3: 2Q | E3: 3Q | F3: 4Q | G3: 1Q | H3: 2Q | I3: 3Q | J3: 4Q | K3: 1Q | L3: 2Q | M3: 3Q | N3: 4Q | O3: 1Q | P3: 2Q | Q3: 3Q | R3: 4Q | S3: 1Q | T3: 2Q | U3: 3Q | V3: 4Q | W3: 1Q | X3: 2Q | Y3: 3Q | Z3: 4Q | AA3: 1Q | AB3: 2Q | AC3: 3Q | AD3: 4Q | AE3: 1Q | AF3: 2Q | AG3: 3Q | AH3: 4Q | AI3: 1Q | AJ3: 2Q | AK3: 3Q | AL3: 4Q | AM3: 1Q | AN3: 2Q | AO3: 3Q | AP3: 4Q | AQ3: 1Q | AR3: 2Q | AS3: 3Q | AT3: 4Q | AU3: 1Q | AV3: 2Q | AW3: 3Q | AX3: 4Q
A4: (PLN million) | B4: (w mln zł)
A5: Revenue total* | B5: Przychody ogółem* | C5: =SUM(C6:C9) -> 319.96554 | D5: =SUM(D6:D9) -> 309.36554 | E5: =SUM(E6:E9) -> 320.56554 | F5: =SUM(F6:F9) -> 280.66554 | G5: =SUM(G6:G9) -> 297.45801 | H5: =SUM(H6:H9) -> 352.35801 | I5: =SUM(I6:I9) -> 342.85801 | J5: =SUM(J6:J9) -> 269.45801 | ... AX5: =SUM(AX6:AX9) -> 772.2
A6: Net interest income | B6: wynik z tytułu odsetek | C6: 138 | D6: 144.3 | E6: 148.8 | F6: 153.8 | G6: 154.3 | H6: 146 | I6: 170.6 | J6: 112 | K6: 123 | L6: 213 | M6: 153.1 | N6: 153 | O6: 178 | P6: 202.2 | Q6: 199.1 | R6: 236.5 | S6: 238.3 | T6: 245.8 | U6: 233.9 | V6: 236.9 | W6: 254.77382 | X6: 265.77382 | Y6: 276.17382 | Z6: 249.47382 | AA6: 242.18037 | AB6: 260.00902 | AC6: 281.62792 | AD6: 296.84214 | AE6: 317.4 | AF6: 346.7 | AG6: 362.3 | AH6: 341.5 | AI6: 344.4 | AJ6: 373.2 | AK6: 404.8 | AL6: =394.1+0.4 -> 394.5 | AM6: 402.8 | AN6: =429.6+0.1 -> 429.7 | AO6: =506.9-0.1 -> 506.8 | AP6: 523.3 | AQ6: 508.2 | AR6: 516.7 | AS6: 543.8 | AT6: 564.6 | AU6: 553.3 | AV6: 594.5 | AW6: 612.9 | AX6: 623.1
A7: Net commission income | B7: wynik z tytułu prowizji | C7: 130.16554 | D7: 136.56554 | E7: 135.06554 | F7: 124.46554 | G7: 124.25801 | H7: 146.15801 | I7: 140.75801 | J7: 189.35801 | K7: 146.78504 | L7: 149.58504 | M7: 159.78504 | N7: 88.385042 | O7: 117.26617 | P7: 159.16617 | Q7: 160.86617 | R7: 96.466171 | S7: 130.84726 | T7: 127.44726 | U7: 122.34726 | V7: 123.34726 | W7: 117.17075 | X7: 115.47075 | Y7: 117.57075 | Z7: 120.17075 | AA7: 106.86733 | AB7: 113.53325 | AC7: 97.434298 | AD7: 119.39543 | AE7: 121.9 | AF7: 123.1 | AG7: 97.9 | AH7: 93.5 | AI7: 89.5 | AJ7: 94.8 | AK7: 91.8 | AL7: =87-0.1 -> 86.9 | AM7: 90.1 | AN7: =92.2-0.1 -> 92.1 | AO7: =98.4+0.1 -> 98.5 | AP7: 100 | AQ7: 104.7 | AR7: 111 | AS7: 108 | AT7: 103.2 | AU7: 108.7 | AV7: 127.2 | AW7: 111.6 | AX7: 107.6
A8: Other income/expenses | B8: pozostałe przychody/koszty | C8: 39.4 | D8: 17.6 | E8: 27.1 | F8: -8.3 | G8: 7.3 | H8: 46 | I8: 18.5 | J8: -41.3 | K8: 18.5 | L8: -24.1 | M8: 17.9 | N8: 49.4 | O8: 6.2 | P8: -11.2 | Q8: 0 | R8: 41.3 | S8: 10.4 | T8: =15.1 -> 15.1 | U8: 11.9 | V8: 7.3 | W8: 48.982268 | X8: 29.582268 | Y8: 23.282268 | Z8: 26.582268 | AA8: 90.821572 | AB8: 39.610334 | AC8: 39.86588 | AD8: 26.914942 | AE8: 34.7 | AF8: 25.9 | AG8: 32.9 | AH8: 33.3 | AI8: 45.7 | AJ8: 101.6 | AK8: 34 | AL8: =27+0.1 -> 27.1 | AM8: 34.5 | AN8: 193.7 | AO8: =2.6+0.1 -> 2.7 | AP8: -2.1 | AQ8: 22.6 | AR8: 49.3 | AS8: 27.1 | AT8: 19.4 | AU8: 45.8 | AV8: 33 | AW8: 20.4 | AX8: 41.5
A9: Share in net profit (loss) of associated entities recognised under the equity method | B9: udział w zyskach (stratach) netto jednostek stowarzyszonych wykazywanych metodą praw własności | C9: 12.4 | D9: 10.9 | E9: 9.6 | F9: 10.7 | G9: 11.6 | H9: 14.2 | I9: 13 | J9: 9.4 | K9: 10.1 | L9: 15.5 | M9: 10.4 | N9: 16.1 | O9: 7.3 | P9: 10.9 | Q9: 10.6 | R9: 12.4 | S9: 9.7 | T9: 13.2 | U9: 8.2 | V9: 10.1 | W9: 6.8 | X9: 11.2 | Y9: 7.6 | Z9: 10.1 | AA9: 9 | AB9: 7.8 | AC9: 9.3 | AD9: 12 | AE9: 11.2 | AF9: 1.1 | AG9: 0 | AH9: 0 | AI9: 0 | AJ9: 0 | AK9: 0 | AL9: 0 | AM9: 0 | AN9: 0 | AO9: 0 | AP9: 0 | AQ9: 0 | AR9: 0 | AS9: 0 | AT9: 0 | AU9: 0 | AV9: 0 | AW9: 0 | AX9: 0
A10: Expenses total | B10: Koszty ogółem | C10: =SUM(C11:C13) -> 213.26554 | D10: =SUM(D11:D13) -> 218.66554 | E10: =SUM(E11:E13) -> 226.36554 | F10: =SUM(F11:F13) -> 224.76554 | G10: =SUM(G11:G13) -> 234.35801 | H10: =SUM(H11:H13) -> 251.55801 | I10: =SUM(I11:I13) -> 250.45801 | J10: =SUM(J11:J13) -> 228.55801 | ... AX10: =SUM(AX11:AX13) -> 337.5
A11: Personnel expenses | B11: koszty osobowe | C11: 98.3 | D11: 106.9 | E11: 110.9 | F11: 123.5 | G11: 111.2 | H11: 112.5 | I11: 129 | J11: 122.2 | K11: 98.4 | L11: 108.8 | M11: 110.5 | N11: 121.1 | O11: 109.7 | P11: 113.8 | Q11: 123.4 | R11: 151.2 | S11: 121 | T11: 117.2 | U11: 122 | V11: 124.7 | W11: 129.62812 | X11: 127.32975 | Y11: 125.97127 | Z11: 132.37698 | AA11: 128.86823 | AB11: 129.30981 | AC11: 130.91397 | AD11: 154.61098 | AE11: 131.6 | AF11: 138.4 | AG11: 132.7 | AH11: 139.8 | AI11: 135.3 | AJ11: 135.1 | AK11: 138.1 | AL11: 146.3 | AM11: 144 | AN11: 144.8 | AO11: 151.5 | AP11: 158.8 | AQ11: 144.6 | AR11: 153.1 | AS11: 153.3 | AT11: 156.1 | AU11: 162.4 | AV11: 168.3 | AW11: 167.7 | AX11: 160.6
A12: Depreciation | B12: amortyzacja | C12: 22 | D12: 23 | E12: 22.3 | F12: 31.2 | G12: 25 | H12: 25.6 | I12: 24.8 | J12: 24.1 | K12: 23.3 | L12: 24.3 | M12: 23.4 | N12: 23.5 | O12: 21.6 | P12: 22 | Q12: 22.2 | R12: 23.8 | S12: 21.8 | T12: 22.1 | U12: 24.5 | V12: 25 | W12: 24.201828 | X12: 25.002183 | Y12: 25.511212 | Z12: 30.512453 | AA12: 28.837034 | AB12: 28.789705 | AC12: 27.620027 | AD12: 31.538413 | AE12: 26.3 | AF12: 26.753905 | AG12: 27.1 | AH12: 42.1 | AI12: 29.4 | AJ12: 32.7 | AK12: 32.2 | AL12: 46.5 | AM12: 32.5 | AN12: 34.8 | AO12: 36 | AP12: 52.6 | AQ12: 35.3 | AR12: 35.6 | AS12: 34.9 | AT12: 36.5 | AU12: 36.9 | AV12: 31.3 | AW12: 34.5 | AX12: 38.6
A13: Other | B13: pozostałe | C13: 92.965538 | D13: 88.765538 | E13: 93.165538 | F13: 70.065538 | G13: 98.158009 | H13: 113.45801 | I13: 96.658009 | J13: 82.258009 | K13: 108.58504 | L13: 116.08504 | M13: 119.48504 | N13: 89.585042 | O13: 118.16617 | P13: 121.96617 | Q13: 119.26617 | R13: 77.966171 | S13: 111.74726 | T13: 115.94726 | U13: 116.74726 | V13: 99.347264 | W13: 133.37063 | X13: 132.1724 | Y13: 128.91744 | Z13: 109.82363 | AA13: 144.10464 | AB13: 138.73146 | AC13: 123.07044 | AD13: 87.858826 | AE13: 126.3 | AF13: 124 | AG13: 126.7 | AH13: 110.4 | AI13: 146.9 | AJ13: 135.4 | AK13: 142.3 | AL13: 197.2 | AM13: 128 | AN13: 122.4 | AO13: 129.9 | AP13: 100.3 | AQ13: 165.7 | AR13: 118.5 | AS13: 129.3 | AT13: 109.8 | AU13: 173.3 | AV13: 131.6 | AW13: 141.7 | AX13: 138.3
A14: Result before risk costs | B14: Wynik segmentu | C14: =C5-C10 -> 106.7 | D14: =D5-D10 -> 90.7 | E14: =E5-E10 -> 94.2 | F14: =F5-F10 -> 55.9 | G14: =G5-G10 -> 63.1 | H14: =H5-H10 -> 100.8 | I14: =I5-I10 -> 92.4 | J14: =J5-J10 -> 40.9 | ... AX14: =AX5-AX10 -> 434.7
A15: Risk cost | B15: koszty ryzyka | C15: -2.4 | D15: -10.4 | E15: -25 | F15: -2.2 | G15: -2.6 | H15: 6 | I15: 4.9 | J15: 20.1 | K15: 12.8 | L15: 6.8 | M15: 21.4 | N15: 22.8 | O15: 21.2 | P15: 13 | Q15: 21.3 | R15: 25.6 | S15: 33.9 | T15: 21.2 | U15: 21 | V15: 14.1 | W15: 19.2 | X15: 25.2 | Y15: 21.5 | Z15: 24.2 | AA15: 37.980921 | AB15: 40.428718 | AC15: 33.010278 | AD15: 17.015056 | AE15: 36.7 | AF15: 10.6 | AG15: 13.2 | AH15: 18.2 | AI15: 33.8 | AJ15: 23.6 | AK15: 7.8 | AL15: =4.6 -> 4.6 | AM15: 16.4 | AN15: 20.6 | AO15: =21.5+3.9 -> 25.4 | AP15: 75.1 | AQ15: 42.8 | AR15: 43.8 | AS15: 39.8 | AT15: 33.9 | AU15: 37.5 | AV15: 103.3 | AW15: 41.7 | AX15: 88.5
A16: Tax on certain financial institutions | B16: podatek od niektórych instytucji finansowych | C16: 0 | D16: 0 | E16: 0 | F16: 0 | G16: 0 | H16: 0 | I16: 0 | J16: 0 | K16: 0 | L16: 0 | M16: 0 | N16: 0 | O16: 0 | P16: 0 | Q16: 0 | R16: 0 | S16: 0 | T16: 0 | U16: 0 | V16: 0 | W16: 0 | X16: 0 | Y16: 0 | Z16: 0 | AA16: 0 | AB16: 0 | AC16: 0 | AD16: 0 | AE16: 0 | AF16: 0 | AG16: 0 | AH16: 0 | AI16: 0 | AJ16: 0 | AK16: 0 | AL16: 0 | AM16: 17.7 | AN16: =27.7+0.1 -> 27.8 | AO16: =27.6-0.1 -> 27.5 | AP16: 28.7 | AQ16: 31.9 | AR16: 28.4 | AS16: 32.5 | AT16: 33.7 | AU16: 35.7 | AV16: 38 | AW16: 39.5 | AX16: 41.7
A17: Profit before tax | B17: Wynik segmentu z uwzględnieniem kosztów ryzyka (wynik finansowy brutto) | C17: =C14-C15 -> 109.1 | D17: =D14-D15 -> 101.1 | E17: =E14-E15 -> 119.2 | F17: =F14-F15 -> 58.1 | G17: =G14-G15 -> 65.7 | H17: =H14-H15 -> 94.8 | I17: =I14-I15 -> 87.5 | J17: =J14-J15 -> 20.8 | ... AL17: =AL14-AL15 -> 113.9 | AM17: =AM14-AM15-AM16 -> 188.8 | AN17: =AN14-AN15-AN16 -> 365.1 | AO17: =AO14-AO15-AO16 -> 237.7 | AP17: =AP14-AP15-AP16 -> 205.7 | AQ17: =AQ14-AQ15-AQ16 -> 215.2 | AR17: =AR14-AR15-AR16 -> 297.6 | AS17: =AS14-AS15-AS16 -> 289.1 | AT17: =AT14-AT15-AT16 -> 317.2 | ... AX17: =AX14-AX15-AX16 -> 304.5
A19: */ including the share in net profit of affiliated units shown using the method of ownership rights | B19: */ włączając udział w zyskach netto jednostek stowarzyszonych wykazywanych metodą praw własności

Sheet Wynik odsetkowy_Interest income
A1: Comparable data pro-forma NOTE! - change in the layout Row 25 added | B1: Dane porównywalne pro-forma
A2: Net interest income | B2: Wynik z tytułu odsetek | C2: 2007 | G2: 2008 | K2: 2009 | O2: 2010 | S2: 2011 | W2: 2012 | AA2: 2013 | AE2: 2014 | AI2: 2015 | AM2: 2016 | AQ2: 2017 | AU2: 2018
C3: 1Q | D3: 2Q | E3: 3Q | F3: 4Q | G3: 1Q | H3: 2Q | I3: 3Q | J3: 4Q | K3: 1Q | L3: 2Q | M3: 3Q | N3: 4Q | O3: 1Q | P3: 2Q | Q3: 3Q | R3: 4Q | S3: 1Q | T3: 2Q | U3: 3Q | V3: 4Q | W3: 1Q | X3: 2Q | Y3: 3Q | Z3: 4Q | AA3: 1Q | AB3: 2Q | AC3: 3Q | AD3: 4Q | AE3: 1Q | AF3: 2Q | AG3: 3Q | AH3: 4Q | AI3: 1Q | AJ3: 2Q | AK3: 3Q | AL3: 4Q | AM3: 1Q | AN3: 2Q | AO3: 3Q | AP3: 4Q | AQ3: 1Q | AR3: 2Q | AS3: 3Q | AT3: 4Q | AU3: 1Q | AV3: 2Q | AW3: 3Q | AX3: 4Q
A4: (PLN million) | B4: (w mln zł)
A5: Interest income on assets measured at amortised cost, including: | B5: Przychody odsetkowe od aktywów wycenianych w zamortyzowanym koszcie w tym: | AU5: =SUM(AU6:AU9) -> 1096.8 | AV5: =SUM(AV6:AV9) -> 1148.8 | AW5: =SUM(AW6:AW9) -> 1193.4 | AX5: =SUM(AX6:AX9) -> 1229.5
A6: - Interest on loans and receivables to other banks measured at amortised cost | B6: - odsetki od kredytów i innych należności udzielonych innym bankom wycenianych zamortyzowanym kosztem | C6: 196.4 | D6: 219.2 | E6: 237 | F6: 220.2 | G6: 214.6 | H6: 176.1 | I6: 143 | J6: 139.2 | K6: 66.6 | L6: 39 | M6: 31.2 | N6: 32.2 | O6: 24.2 | P6: 29.9 | Q6: 21.7 | R6: 23.5 | S6: 26.3 | T6: 29.8 | U6: 30.2 | V6: 41.9 | W6: =26.8-26.8+26.9 -> 26.9 | X6: =30.4-30.4+31 -> 31 | Y6: 37.4 | Z6: 40.5 | AA6: 27.8 | AB6: 25.3 | AC6: 23.8 | AD6: 28.5 | AE6: 28.7 | AF6: 23.8 | AG6: 22.3 | AH6: 17.8 | AI6: 15.9 | AJ6: 15.4 | AK6: 17.1 | AL6: 14.4 | AM6: 12.3 | AN6: 13.9 | AO6: 12.7 | AP6: 12.3 | AQ6: 12.5 | AR6: 13.7 | AS6: 13.9 | AT6: 16.1 | AU6: 9.5 | AV6: 7.9 | AW6: 10.1 | AX6: 8.9
