Workbook

Sheet Kluczowe informacje_Key data
A1: Comparable data pro-forma | B1: Dane porównywalne pro-forma | AY1: nowa segmentacja / new segmentation ->
A2: Key financial and business information | B2: Kluczowe informacje finansowe i biznesowe | C2: 2007 | G2: 2008 | K2: 2009 | O2: 2010 | S2: 2011 | W2: 2012 | AA2: 2013 | AE2: 2014 | AI2: 2015 | AM2: 2016 | AQ2: 2017 | AU2: 2018 | AY2: 2019 | BC2: 2020
C3: 1Q | D3: 2Q | E3: 3Q | F3: 4Q | G3: 1Q | H3: 2Q | I3: 3Q | J3: 4Q | K3: 1Q | L3: 2Q | M3: 3Q | N3: 4Q | O3: 1Q | P3: 2Q | Q3: 3Q | R3: 4Q | S3: 1Q | T3: 2Q | U3: 3Q | V3: 4Q | W3: 1Q | X3: 2Q | Y3: 3Q | Z3: 4Q | AA3: 1Q | AB3: 2Q | AC3: 3Q | AD3: 4Q | AE3: 1Q | AF3: 2Q | AG3: 3Q | AH3: 4Q | AI3: 1Q | AJ3: 2Q | AK3: 3Q | AL3: 4Q | AM3: 1Q | AN3: 2Q | AO3: 3Q | AP3: 4Q | AQ3: 1Q | AR3: 2Q | AS3: 3Q | AT3: 4Q | AU3: 1Q | AV3: 2Q | AW3: 3Q | AX3: 4Q | AY3: 1Q | AZ3: 2Q | BA3: 3Q | BB3: 4Q | BC3: 1Q | BD3: 2Q | BE3: 3Q | BF3: 4Q
A4: (PLN million) | B4: (w mln zł)
A5: P&L: | B5: Wynik finansowy:
A6: Income 1 | B6: Przychody 1 | C6: ='RZiS_P&L'!C18+'RZiS_P&L'!C23 -> 539.2 | D6: ='RZiS_P&L'!D18+'RZiS_P&L'!D23 -> 522.2 | E6: ='RZiS_P&L'!E18+'RZiS_P&L'!E23 -> 542.3 | F6: ='RZiS_P&L'!F18+'RZiS_P&L'!F23 -> 473.2 | G6: ='RZiS_P&L'!G18+'RZiS_P&L'!G23 -> 582.7 | H6: ='RZiS_P&L'!H18+'RZiS_P&L'!H23 -> 625.7 | I6: ='RZiS_P&L'!I18+'RZiS_P&L'!I23 -> 620.2 | J6: ='RZiS_P&L'!J18+'RZiS_P&L'!J23 -> 303.9 | ... BF6: ='RZiS_P&L'!BF18+'RZiS_P&L'!BF23 -> 1603.8
A7: Costs | B7: Koszty | C7: ='RZiS_P&L'!C19 -> 336.1 | D7: ='RZiS_P&L'!D19 -> 345 | E7: ='RZiS_P&L'!E19 -> 356.9 | F7: ='RZiS_P&L'!F19-'RZiS_P&L'!F20 -> 355.1 | G7: ='RZiS_P&L'!G19 -> 367.7 | H7: ='RZiS_P&L'!H19 -> 389.9 | I7: ='RZiS_P&L'!I19 -> 407.7 | J7: ='RZiS_P&L'!J19-'RZiS_P&L'!J20 -> 338.6 | K7: ='RZiS_P&L'!K19 -> 366.8 | L7: ='RZiS_P&L'!L19 -> 386.6 | M7: ='RZiS_P&L'!M19 -> 397.3 | N7: ='RZiS_P&L'!N19-'RZiS_P&L'!N20 -> 355.2 | O7: ='RZiS_P&L'!O19 -> 394.4 | P7: ='RZiS_P&L'!P19 -> 407.1 | Q7: ='RZiS_P&L'!Q19 -> 411.6 | R7: ='RZiS_P&L'!R19-'RZiS_P&L'!R20 -> 396.4 | S7: ='RZiS_P&L'!S19 -> 417.4 | T7: ='RZiS_P&L'!T19 -> 431.8 | U7: ='RZiS_P&L'!U19 -> 431.1 | V7: ='RZiS_P&L'!V19-'RZiS_P&L'!V20 -> 419.7 | W7: ='RZiS_P&L'!W19 -> 474.9 | X7: ='RZiS_P&L'!X19 -> 465 | Y7: ='RZiS_P&L'!Y19 -> 466.2 | Z7: ='RZiS_P&L'!Z19-'RZiS_P&L'!Z20 -> 460.1 | AA7: ='RZiS_P&L'!AA19 -> 482.2 | AB7: ='RZiS_P&L'!AB19 -> 477 | AC7: ='RZiS_P&L'!AC19 -> 458.8 | AD7: ='RZiS_P&L'!AD19-'RZiS_P&L'!AD20 -> 450.4 | AE7: ='RZiS_P&L'!AE19-'RZiS_P&L'!AE20 -> 471.2 | AF7: ='RZiS_P&L'!AF19-'RZiS_P&L'!AF20 -> 480.5 | AG7: ='RZiS_P&L'!AG19-'RZiS_P&L'!AG20 -> 489.5 | AH7: ='RZiS_P&L'!AH19-'RZiS_P&L'!AH20 -> 488.5 | AI7: ='RZiS_P&L'!AI19-'RZiS_P&L'!AI20 -> 495.6 | AJ7: ='RZiS_P&L'!AJ19-'RZiS_P&L'!AJ20 -> 502.3 | AK7: ='RZiS_P&L'!AK19-'RZiS_P&L'!AK20 -> 509.8 | AL7: ='RZiS_P&L'!AL19-'RZiS_P&L'!AL20 -> 648 | AM7: ='RZiS_P&L'!AM19 -> 508.8 | AN7: ='RZiS_P&L'!AN19 -> 517.2 | AO7: ='RZiS_P&L'!AO19 -> 515.5 | AP7: ='RZiS_P&L'!AP19 -> 557.7 | AQ7: ='RZiS_P&L'!AQ19 -> 565.6 | AR7: ='RZiS_P&L'!AR19 -> 512.1 | AS7: ='RZiS_P&L'!AS19 -> 529.6 | AT7: ='RZiS_P&L'!AT19 -> 528.5 | ... BF7: ='RZiS_P&L'!BF19 -> 682.3
A8: Risk costs including legal cost of risk for FX-mortgage loans | B8: Koszty ryzyka łącznie z kosztami ryzyka prawnego walutowych kredytów hipotecznych | C8: ='RZiS_P&L'!C21 -> -6.3 | D8: ='RZiS_P&L'!D21 -> -26.7 | E8: ='RZiS_P&L'!E21 -> -64.4 | F8: ='RZiS_P&L'!F21 -> -5.8 | G8: ='RZiS_P&L'!G21 -> 0.7 | H8: ='RZiS_P&L'!H21 -> -58.8 | I8: ='RZiS_P&L'!I21 -> 7.2 | J8: ='RZiS_P&L'!J21 -> 116.5 | ... AT8: ='RZiS_P&L'!AT21 -> 112.6 | AU8: ='RZiS_P&L'!AU22 -> 94.8 | AV8: ='RZiS_P&L'!AV22 -> 173.7 | AW8: ='RZiS_P&L'!AW22 -> 133.9 | AX8: ='RZiS_P&L'!AX22 -> 98.5 | AY8: ='RZiS_P&L'!AY22 -> 125 | AZ8: ='RZiS_P&L'!AZ22 -> 135.9 | BA8: ='RZiS_P&L'!BA22 -> 180.2 | BB8: ='RZiS_P&L'!BB22 -> 164.4 | ... BF8: ='RZiS_P&L'!BF22 -> 322.5
A9: Gross profit | B9: Zysk brutto | C9: ='RZiS_P&L'!C24 -> 209.4 | D9: ='RZiS_P&L'!D24 -> 203.9 | E9: ='RZiS_P&L'!E24 -> 249.8 | F9: ='RZiS_P&L'!F24 -> 123.9 | G9: ='RZiS_P&L'!G24 -> 214.3 | H9: ='RZiS_P&L'!H24 -> 294.6 | I9: ='RZiS_P&L'!I24 -> 205.3 | J9: ='RZiS_P&L'!J24 -> -151.2 | ... BF9: ='RZiS_P&L'!BF24 -> 476.5
A10: Net profit 2 | B10: Zysk netto 2 | C10: ='RZiS_P&L'!C27 -> 167.4 | D10: ='RZiS_P&L'!D27 -> 167.8 | E10: ='RZiS_P&L'!E27 -> 198 | F10: ='RZiS_P&L'!F27 -> 97.5 | G10: ='RZiS_P&L'!G27 -> 173.8 | H10: ='RZiS_P&L'!H27 -> 233.7 | I10: ='RZiS_P&L'!I27 -> 166.9 | J10: ='RZiS_P&L'!J27 -> -129 | ... BF10: ='RZiS_P&L'!BF27 -> 313.9
A12: BS: | B12: Dane bilansowe:
A13: Balance sheet total | B13: Suma bilansowa | C13: =Bilans_BS!C20 -> 56616.9 | D13: =Bilans_BS!D20 -> 53203.1 | E13: =Bilans_BS!E20 -> 53246.6 | F13: =Bilans_BS!F20 -> 52010.8 | G13: =Bilans_BS!G20 -> 60234.4 | H13: =Bilans_BS!H20 -> 60513.2 | I13: =Bilans_BS!I20 -> 65262.6 | J13: =Bilans_BS!J20 -> 69610.5 | ... BF13: =Bilans_BS!BF20 -> 186595.7
A14: Loans and receivables to customers (net) 3, of which: | B14: Kredyty i inne należności udzielone klientom netto 3, w tym: | C14: =Bilans_BS!C11-Kredyty_loans_old!C83-Kredyty_loans_old!C90 -> 13782.6 | D14: =Bilans_BS!D11-Kredyty_loans_old!D83-Kredyty_loans_old!D90 -> 14567.2 | E14: =Bilans_BS!E11-Kredyty_loans_old!E83-Kredyty_loans_old!E90 -> 15449.4 | F14: =Bilans_BS!F11-Kredyty_loans_old!F83-Kredyty_loans_old!F90 -> 16379.1 | G14: =Bilans_BS!G11-Kredyty_loans_old!G83-Kredyty_loans_old!G90 -> 18039.9 | H14: =Bilans_BS!H11-Kredyty_loans_old!H83-Kredyty_loans_old!H90 -> 20372 | I14: =Bilans_BS!I11-Kredyty_loans_old!I83-Kredyty_loans_old!I90 -> 21986.8 | J14: =Bilans_BS!J11-Kredyty_loans_old!J83-Kredyty_loans_old!J90 -> 24088.8 | ... AT14: =Bilans_BS!AT11-Kredyty_loans_old!AT83-Kredyty_loans_old!AT90 -> 83710.5 | AU14: =Bilans_BS!AU11 -> 90028.2 | AV14: =Bilans_BS!AV11 -> 94475.3 | AW14: =Bilans_BS!AW11 -> 98986 | AX14: =Bilans_BS!AX11 -> 102907.4 | AY14: =Bilans_BS!AY11 -> 107181.3 | AZ14: =Bilans_BS!AZ11 -> 110316.4 | BA14: =Bilans_BS!BA11 -> 115551 | BB14: =Bilans_BS!BB11 -> 118127.8 | ... BF14: =Bilans_BS!BF11 -> 124655.3
A15: Loans | B15: Kredyty | C15: =Kredyty_loans_old!C6+Kredyty_loans_old!C9+Kredyty_loans_old!C16+Kredyty_loans_old!C19 -> 13547.4 | D15: =Kredyty_loans_old!D6+Kredyty_loans_old!D9+Kredyty_loans_old!D16+Kredyty_loans_old!D19 -> 14323.8 | E15: =Kredyty_loans_old!E6+Kredyty_loans_old!E9+Kredyty_loans_old!E16+Kredyty_loans_old!E19 -> 15231.5 | F15: =Kredyty_loans_old!F6+Kredyty_loans_old!F9+Kredyty_loans_old!F16+Kredyty_loans_old!F19 -> 16105.5 | G15: =Kredyty_loans_old!G6+Kredyty_loans_old!G9+Kredyty_loans_old!G16+Kredyty_loans_old!G19 -> 17758.9 | H15: =Kredyty_loans_old!H6+Kredyty_loans_old!H9+Kredyty_loans_old!H16+Kredyty_loans_old!H19 -> 19283.5 | I15: =Kredyty_loans_old!I6+Kredyty_loans_old!I9+Kredyty_loans_old!I16+Kredyty_loans_old!I19 -> 21522.1 | J15: =Kredyty_loans_old!J6+Kredyty_loans_old!J9+Kredyty_loans_old!J16+Kredyty_loans_old!J19 -> 23639.8 | ... AO15: =Kredyty_loans_old!AO6+Kredyty_loans_old!AO9+Kredyty_loans_old!AO16+Kredyty_loans_old!AO19 -> 66660.6 | AP15: =Kredyty_loans!AP66-Kredyty_loans!AP70-Kredyty_loans!AP71-Kredyty_loans!AP76 -> 67572.6 | AQ15: =Kredyty_loans!AQ66-Kredyty_loans!AQ70-Kredyty_loans!AQ71-Kredyty_loans!AQ76 -> 69982.9 | AR15: =Kredyty_loans!AR66-Kredyty_loans!AR70-Kredyty_loans!AR71-Kredyty_loans!AR76 -> 72021.2 | AS15: =Kredyty_loans!AS66-Kredyty_loans!AS70-Kredyty_loans!AS71-Kredyty_loans!AS76 -> 74721.8 | AT15: =Kredyty_loans!AT66-Kredyty_loans!AT70-Kredyty_loans!AT71-Kredyty_loans!AT76 -> 75407.2 | AU15: =Kredyty_loans!AU66-Kredyty_loans!AU70-Kredyty_loans!AU71-Kredyty_loans!AU76 -> 77893.4 | AV15: =Kredyty_loans!AV66-Kredyty_loans!AV70-Kredyty_loans!AV71-Kredyty_loans!AV76 -> 81668.4 | AW15: =Kredyty_loans!AW66-Kredyty_loans!AW70-Kredyty_loans!AW71-Kredyty_loans!AW76 -> 85819.6 | ... BF15: =Kredyty_loans!BF66-Kredyty_loans!BF70-Kredyty_loans!BF71-Kredyty_loans!BF76 -> 108230
A16: Leasing receivables | B16: Należności leasingowe | C16: 0 | D16: 0 | E16: 0 | F16: 0 | G16: 0 | H16: 0 | I16: 0 | J16: 0 | K16: 0 | L16: 0 | M16: 0 | N16: 0 | O16: 0 | P16: 0 | Q16: 0 | R16: 0 | S16: 0 | T16: 0 | U16: 0 | V16: 0 | W16: 3045.6 | X16: 3084.4 | Y16: =Kredyty_loans_old!Y7+Kredyty_loans_old!Y17 -> 3067.2 | Z16: =Kredyty_loans_old!Z7+Kredyty_loans_old!Z17 -> 3164.5 | AA16: =Kredyty_loans_old!AA7+Kredyty_loans_old!AA17 -> 3188.4 | AB16: =Kredyty_loans_old!AB7+Kredyty_loans_old!AB17 -> 3322.4 | AC16: =Kredyty_loans_old!AC7+Kredyty_loans_old!AC17 -> 3472.2 | AD16: =Kredyty_loans_old!AD7+Kredyty_loans_old!AD17 -> 3590.8 | AE16: =Kredyty_loans_old!AE7+Kredyty_loans_old!AE17 -> 3774.3 | AF16: =Kredyty_loans_old!AF7+Kredyty_loans_old!AF17 -> 4162.1 | ... AO16: =Kredyty_loans_old!AO7+Kredyty_loans_old!AO17 -> 5509.3 | AP16: =Kredyty_loans!AP70+Kredyty_loans!AP76 -> 5710.6 | AQ16: =Kredyty_loans!AQ70+Kredyty_loans!AQ76 -> 5774.1 | AR16: =Kredyty_loans!AR70+Kredyty_loans!AR76 -> 6098.6 | AS16: =Kredyty_loans!AS70+Kredyty_loans!AS76 -> 6327.4 | AT16: =Kredyty_loans!AT70+Kredyty_loans!AT76 -> 6560.1 | AU16: =Kredyty_loans!AU70+Kredyty_loans!AU76 -> 6825 | AV16: =Kredyty_loans!AV70+Kredyty_loans!AV76 -> 7246.3 | AW16: =Kredyty_loans!AW70+Kredyty_loans!AW76 -> 7608.3 | ... BF16: =Kredyty_loans!BF70+Kredyty_loans!BF76 -> 9697.6
A17: Factoring receivables | B17: Należności faktoringowe | C17: =Kredyty_loans_old!C8+Kredyty_loans_old!C18 -> 148.7 | D17: =Kredyty_loans_old!D8+Kredyty_loans_old!D18 -> 148.1 | E17: =Kredyty_loans_old!E8+Kredyty_loans_old!E18 -> 125.5 | F17: =Kredyty_loans_old!F8+Kredyty_loans_old!F18 -> 128.6 | G17: =Kredyty_loans_old!G8+Kredyty_loans_old!G18 -> 130.5 | H17: =Kredyty_loans_old!H8+Kredyty_loans_old!H18 -> 136 | I17: =Kredyty_loans_old!I8+Kredyty_loans_old!I18 -> 178.2 | J17: =Kredyty_loans_old!J8+Kredyty_loans_old!J18 -> 164.6 | ... AO17: =Kredyty_loans_old!AO8+Kredyty_loans_old!AO18 -> 4264.7 | AP17: =Kredyty_loans!AP71 -> 4350.4 | AQ17: =Kredyty_loans!AQ71 -> 4513.4 | AR17: =Kredyty_loans!AR71 -> 4622.2 | AS17: =Kredyty_loans!AS71 -> 4715.1 | AT17: =Kredyty_loans!AT71 -> 4589 | AU17: =Kredyty_loans!AU71 -> 4562.6 | AV17: =Kredyty_loans!AV71 -> 4751.6 | AW17: =Kredyty_loans!AW71 -> 4767 | ... BF17: =Kredyty_loans!BF71 -> 4794.5
A18: Liabilities due to customers | B18: Zobowiązania wobec klientów | C18: =Bilans_BS!C28 -> 40774.6 | D18: =Bilans_BS!D28 -> 40253.4 | E18: =Bilans_BS!E28 -> 40658.1 | F18: =Bilans_BS!F28 -> 44501.8 | G18: =Bilans_BS!G28 -> 45359.1 | H18: =Bilans_BS!H28 -> 47651.4 | I18: =Bilans_BS!I28 -> 51303.5 | J18: =Bilans_BS!J28 -> 47111.9 | ... BF18: =Bilans_BS!BF28 -> 151028.5
A19: Equity 4 | B19: Kapitały własne 4 | C19: =Bilans_BS!C41 -> 3902.3 | D19: =Bilans_BS!D41 -> 3622 | E19: =Bilans_BS!E41 -> 3820.4 | F19: =Bilans_BS!F41 -> 3838.8 | G19: =Bilans_BS!G41 -> 4013.7 | H19: =Bilans_BS!H41 -> 3977.6 | I19: =Bilans_BS!I41 -> 4277.9 | J19: =Bilans_BS!J41 -> 4222.2 | ... BF19: =Bilans_BS!BF41 -> 18618.3
A21: Total capital ratio (consolidated) as % | B21: Łączny współczynnik kapitałowy skonsolidowany w % | C21: 0.1374 | D21: 0.1341 | E21: 0.1305 | F21: 0.1312 | G21: 0.1102 | H21: 0.1122 | I21: 0.119 | J21: 0.1039 | K21: 0.101 | L21: 0.1087 | M21: 0.1207 | N21: 0.1201 | O21: 0.13 | P21: 0.1256 | Q21: 0.133 | R21: 0.1315 | S21: 0.1274 | T21: 0.1261 | U21: 0.1256 | V21: 0.1192 | W21: 0.1211 | X21: 0.1298 | Y21: ='Łączny współ kap_TCR_GROUP'!Y53 -> 0.1367 | Z21: ='Łączny współ kap_TCR_GROUP'!Z53 -> 0.1455 | AA21: ='Łączny współ kap_TCR_GROUP'!AA53 -> 0.1515 | AB21: ='Łączny współ kap_TCR_GROUP'!AB53 -> 0.1583 | AC21: ='Łączny współ kap_TCR_GROUP'!AC53 -> 0.1739 | AD21: ='Łączny współ kap_TCR_GROUP'!AD53 -> 0.1728 | AE21: ='Łączny współ kap_TCR_GROUP'!AE53 -> 0.1457 | AF21: ='Łączny współ kap_TCR_GROUP'!AF53 -> 0.1504 | ... BF21: ='Łączny współ kap_TCR_GROUP'!BF53 -> 0.1872
A25: Total capital ratio (standalone) as % | B25: Łączny współczynnik kapitałowy jednostkowy w % | C25: 0.1318 | D25: 0.1255 | E25: 0.1217 | F25: 0.1203 | G25: 0.1025 | H25: 0.1033 | I25: 0.1131 | J25: 0.0983 | K25: 0.0939 | L25: 0.0993 | M25: 0.1121 | N25: 0.1124 | O25: 0.1218 | P25: 0.1159 | Q25: 0.1236 | R25: 0.122 | S25: 0.1173 | T25: 0.1161 | U25: 0.1178 | V25: 0.1158 | W25: 0.1157 | X25: 0.124 | Y25: 0.1309 | Z25: 0.14 | AA25: 0.1441 | AB25: 0.1525 | AC25: 0.1733 | AD25: 0.171 | AE25: 0.153 | AF25: 0.157 | AG25: 0.1531 | AH25: 0.1552 | AI25: 0.1576 | AJ25: 0.1462 | AK25: 0.1467 | AL25: 0.1507 | AM25: 0.154 | AN25: 0.1628 | AO25: 0.1659 | AP25: 0.166 | AQ25: 0.1613 | AR25: 0.172 | AS25: 0.1647 | AT25: 0.1839 | AU25: 0.1765 | AV25: 0.1664 | AW25: 0.1673 | AX25: 0.1717 | AY25: 0.1717 | AZ25: 0.1624 | BA25: 0.1704 | BB25: 0.183 | BC25: 0.1707 | BD25: 0.1954 | BE25: 0.1974 | BF25: 0.2
A28: LR (consolidated) as % | B28: Wskaźnik dzwigni w % (skonsolidowany) | AQ28: 0.0696 | AR28: 0.0768 | AS28: 0.0749 | AT28: 0.0773 | AU28: 0.0761 | AV28: 0.075 | AW28: 0.0768 | AX28: 0.0742 | AY28: 0.0739 | AZ28: 0.0723 | BA28: 0.0722 | BB28: 0.0723 | BC28: 0.0643 | BD28: 0.0696 | BE28: 0.0685 | BF28: 0.0689
A29: LCR (consolidated) as % | B29: LCR w % (skonsolidowany) | AQ29: 1.44 | AR29: 1.34 | AS29: 1.31 | AT29: 1.45 | AU29: 1.35 | AV29: 1.23 | AW29: 1.19 | AX29: 1.33 | AY29: 1.25 | AZ29: 1.22 | BA29: 1.19 | BB29: 1.3 | BC29: 1.41 | BD29: 2.23 | BE29: 2.13 | BF29: 2.2
A30: NSFR (consolidated) as % | B30: NSFR w % (skonsolidowany) | AQ30: 1.22 | AR30: 1.19 | AS30: 1.16 | AT30: 1.22 | AU30: 1.19 | AV30: 1.23 | AW30: 1.17 | AX30: 1.31 | AY30: 1.28 | AZ30: 1.28 | BA30: 1.26 | BB30: 1.3 | BC30: 1.3 | BD30: 1.44 | BE30: 1.44 | BF30: 1.44
A32: Basic ratios: | B32: Podstawowe wskaźniki:
A33: Net profit/ Balance sheet total (ROA) as % | B33: Zysk netto/suma bilansowa (ROA) w % | C33: 1.3 | D33: 1.2 | E33: 1.2 | F33: 1.2 | G33: =SUM(D10:G10)/AVERAGE(C13:G13)*100 -> 1.1570518 | H33: =SUM(E10:H10)/AVERAGE(D13:H13)*100 -> 1.2589176 | I33: =SUM(F10:I10)/AVERAGE(E13:I13)*100 -> 1.1534067 | J33: =SUM(G10:J10)/AVERAGE(F13:J13)*100 -> 0.72391806 | K33: =SUM(H10:K10)/AVERAGE(G13:K13)*100 -> 0.54411853 | L33: =SUM(I10:L10)/AVERAGE(H13:L13)*100 -> 0.45929915 | M33: =SUM(J10:M10)/AVERAGE(I13:M13)*100 -> 0.52026236 | N33: =SUM(K10:N10)/AVERAGE(J13:N13)*100 -> 0.9114088 | ... BF33: =SUM(BC10:BF10)/AVERAGE(BB13:BF13)*100 -> 0.75832238
A34: Net profit/ Equity (ROE) as % | B34: Zysk netto/Kapitały (ROE) w % | C34: 16.3 | D34: 16.3 | E34: 17 | F34: 16.7 | G34: =SUM(D10:G10)/AVERAGE(C19:G19)*100 -> 16.593566 | H34: =SUM(E10:H10)/AVERAGE(D19:H19)*100 -> 18.238423 | I34: =SUM(F10:I10)/AVERAGE(E19:I19)*100 -> 16.857851 | J34: =SUM(G10:J10)/AVERAGE(F19:J19)*100 -> 10.954147 | K34: =SUM(H10:K10)/AVERAGE(G19:K19)*100 -> 8.4824502 | L34: =SUM(I10:L10)/AVERAGE(H19:L19)*100 -> 7.0840306 | M34: =SUM(J10:M10)/AVERAGE(I19:M19)*100 -> 7.8343021 | N34: =SUM(K10:N10)/AVERAGE(J19:N19)*100 -> 13.14023 | ... BF34: =SUM(BC10:BF10)/AVERAGE(BB19:BF19)*100 -> 7.5987997
A35: Cost /Income ratio (C/I) as % | B35: Koszty/Dochody w % | C35: =+C7/C6*100 -> 62.333086 | D35: =ROUND(D7/D6*100,1) -> 66.1 | E35: =ROUND(E7/E6*100,1) -> 65.8 | F35: =ROUND(F7/F6*100,1) -> 75 | G35: =ROUND(G7/G6*100,1) -> 63.1 | H35: =ROUND(H7/H6*100,1) -> 62.3 | I35: =ROUND(I7/I6*100,1) -> 65.7 | J35: =ROUND(J7/J6*100,1) -> 111.4 | K35: =ROUND(K7/K6*100,1) -> 65.3 | ... BF35: =ROUND(BF7/BF6*100,1) -> 42.5
A36: Cost /Income ratio (C/I) as % - cumulatively | B36: Koszty/Dochody w % - narastająco | C36: =+C7/C6*100 -> 62.333086 | D36: =(+C7+D7)/(C6+D6)*100 -> 64.169964 | E36: =(+C7+D7+E7)/(C6+D6+E6)*100 -> 64.725323 | F36: =(+C7+D7+E7+F7)/(C6+D6+E6+F6)*100 -> 67.07593 | G36: =+G7/G6*100 -> 63.102797 | H36: =(+G7+H7)/(G6+H6)*100 -> 62.694472 | I36: =(+G7+H7+I7)/(G6+H6+I6)*100 -> 63.726348 | J36: =(+G7+H7+I7+J7)/(G6+H6+I6+J6)*100 -> 70.52286 | K36: =+K7/K6*100 -> 65.336658 | L36: =(+K7+L7)/(K6+L6)*100 -> 60.247901 | M36: =(+K7+L7+M7)/(K6+L6+M6)*100 -> 58.742151 | N36: =(+K7+L7+M7+N7)/(K6+L6+M6+N6)*100 -> 59.087342 | O36: =+O7/O6*100 -> 59.577039 | P36: =(+O7+P7)/(O6+P6)*100 -> 59.613239 | Q36: =(+O7+P7+Q7)/(O6+P6+Q6)*100 -> 59.21605 | R36: =(+O7+P7+Q7+R7)/(O6+P6+Q6+R6)*100 -> 58.586925 | S36: =+S7/S6*100 -> 56.283711 | T36: =(+S7+T7)/(S6+T6)*100 -> 56.571847 | U36: =(+S7+T7+U7)/(S6+T6+U6)*100 -> 57.261058 | V36: =(+S7+T7+U7+V7)/(S6+T6+U6+V6)*100 -> 56.856187 | W36: =+W7/W6*100 -> 55.427171 | X36: =(+W7+X7)/(W6+X6)*100 -> 56.610251 | Y36: =(+X7+Y7+W7)/(X6+Y6+W6)*100 -> 57.116744 | Z36: =(+Y7+W7+X7+Z7)/(Y6+W6+X6+Z6)*100 -> 57.508243 | AA36: =(+AA7/AA6)*100 -> 55.797269 | AB36: =(+AA7+AB7)/(AA6+AB6)*100 -> 57.153072 | AC36: =(+AA7+AC7+AB7)/(AA6+AC6+AB6)*100 -> 56.961517 | AD36: =(+AA7+AD7+AC7+AB7)/(AA6+AD6+AC6+AB6)*100 -> 56.133393 | AE36: =(+AE7/AE6)*100 -> 53.31523 | AF36: =(+AE7+AF7)/(AE6+AF6)*100 -> 53.421274 | AG36: =(+AE7+AG7+AF7)/(AE6+AG6+AF6)*100 -> 53.800209 | AH36: =(+AE7+AH7+AF7+AG7)/(AE6+AH6+AF6+AG6)*100 -> 54.437486 | AI36: =(+AI7)/(AI6)*100 -> 54.701987 | AJ36: =(+AI7+AJ7)/(AI6+AJ6)*100 -> 52.871675 | AK36: =(+AI7+AK7+AJ7)/(AI6+AK6+AJ6)*100 -> 53.379359 | AL36: =(+AJ7+AL7+AK7+AI7)/(AJ6+AL6+AK6+AI6)*100 -> 57.05778 | AM36: =ROUND(AM7/AM6*100,1) -> 52.2 | AN36: =(+AM7+AN7)/(AM6+AN6)*100 -> 48.214286 | AO36: =(+AN7+AO7+AM7)/(AN6+AO6+AM6)*100 -> 48.13427 | AP36: =(+AN7+AP7+AM7+AO7)/(AN6+AP6+AM6+AO6)*100 -> 48.542028 | AQ36: =SUM($AQ$7:AQ7)/SUM($AQ$6:AQ6)*100 -> 49.819431 | AR36: =SUM($AQ$7:AR7)/SUM($AQ$6:AR6)*100 -> 46.314839 | AS36: =SUM($AQ$7:AS7)/SUM($AQ$6:AS6)*100 -> 45.38088 | AT36: =SUM($AQ$7:AT7)/SUM($AQ$6:AT6)*100 -> 44.784131 | AU36: =SUM($AU$7:AU7)/SUM($AU$6:AU6)*100 -> 49.988066 | AV36: =SUM($AU$7:AV7)/SUM($AU$6:AV6)*100 -> 46.094815 | AW36: =SUM($AU$7:AW7)/SUM($AU$6:AW6)*100 -> 45.455719 | AX36: =SUM($AU$7:AX7)/SUM($AU$6:AX6)*100 -> 44.469077 | AY36: =SUM($AY$7:AY7)/SUM($AY$6:AY6)*100 -> 52.016158 | AZ36: =SUM($AY$7:AZ7)/SUM($AY$6:AZ6)*100 -> 45.892511 | BA36: =SUM($AY$7:BA7)/SUM($AY$6:BA6)*100 -> 44.240765 | BB36: =SUM($AY$7:BB7)/SUM($AY$6:BB6)*100 -> 43.085363 | BC36: =SUM($BC$7:BC7)/SUM($BC$6:BC6)*100 -> 49.593652 | BD36: =SUM($BC$7:BD7)/SUM($BC$6:BD6)*100 -> 45.97047 | BE36: =SUM($BC$7:BE7)/SUM($BC$6:BE6)*100 -> 44.958828 | BF36: =SUM($BC$7:BF7)/SUM($BC$6:BF6)*100 -> 44.336912
A37: Net interest margin (NIM) as % 5 | B37: Marża odsetkowa netto w % 5 | C37: - | D37: - | E37: - | F37: - | G37: 2.04 | H37: 2.14 | I37: 2.15 | J37: 2.14 | K37: 2.08 | L37: 2.11 | M37: 2.18 | N37: 2.25 | O37: 2.45 | P37: 2.58 | Q37: 2.66 | R37: 2.78 | S37: 2.79 | T37: 2.83 | U37: 2.84 | V37: 2.87 | W37: 2.89 | X37: 2.94 | Y37: 2.95 | Z37: 2.94 | AA37: 2.87 | AB37: 2.76 | AC37: 2.69 | AD37: 2.68 | AE37: 2.73 | AF37: 2.73 | AG37: 2.72 | AH37: 2.67 | AI37: 2.56 | AJ37: 2.47 | AK37: 2.43 | AL37: 2.45 | AM37: 2.48 | AN37: 2.5 | AO37: 2.57 | AP37: ='Marża odsetkowa_NIM'!AP24*100 -> 2.6724743 | AQ37: ='Marża odsetkowa_NIM'!AQ24*100 -> 2.7272549 | AR37: ='Marża odsetkowa_NIM'!AR24*100 -> 2.8038894 | AS37: ='Marża odsetkowa_NIM'!AS24*100 -> 2.8467504 | AT37: ='Marża odsetkowa_NIM'!AT24*100 -> 2.882691 | AU37: ='Marża odsetkowa_NIM'!AU24*100 -> 2.909161 | AV37: ='Marża odsetkowa_NIM'!AV24*100 -> 2.9277906 | AW37: ='Marża odsetkowa_NIM'!AW24*100 -> 2.9369804 | ... BF37: ='Marża odsetkowa_NIM'!BF24*100 -> 2.6284885
A39: Information for investors and shareholders: | B39: Informacje dla inwestorów i akcjonariuszy:
A40: Number of shares 6 | B40: Liczba akcji 6 | C40: 130100000 | D40: 130100000 | E40: 130100000 | F40: 130100000 | G40: 130100000 | H40: 130100000 | I40: 130100000 | J40: 130100000 | K40: 130100000 | L40: 130100000 | M40: 130100000 | N40: 130100000 | O40: 130100000 | P40: 130100000 | Q40: 130100000 | R40: 130100000 | S40: 130100000 | T40: 130100000 | U40: 130100000 | V40: 130100000 | W40: 130100000 | X40: 130100000 | Y40: 130100000 | Z40: 130100000 | AA40: 130100000 | AB40: 130100000 | AC40: 130100000 | AD40: 130100000 | AE40: 130100000 | AF40: 130100000 | AG40: 130100000 | AH40: 130100000 | AI40: 130100000 | AJ40: 130100000 | AK40: 130100000 | AL40: 130100000 | AM40: 130100000 | AN40: 130100000 | AO40: 130100000 | AP40: 130100000 | AQ40: 130100000 | AR40: 130100000 | AS40: 130100000 | AT40: 130100000 | AU40: 130100000 | AV40: 130100000 | AW40: 130100000 | AX40: 130100000 | AY40: 130100000 | AZ40: =$AY$40 -> 130100000 | BA40: =$AY$40 -> 130100000 | BB40: =$AY$40 -> 130100000 | BC40: =$AY$40 -> 130100000 | BD40: =$AY$40 -> 130100000 | BE40: =$AY$40 -> 130100000 | BF40: =$AY$40 -> 130100000
A41: Net book value | B41: Wartość księgowa | C41: 3902.3 | D41: 3622 | E41: 3820.4 | F41: 3838.8 | G41: 4013.7 | H41: 3977.6 | I41: 4277.9 | J41: 4222.2 | K41: 4280.9 | L41: 4514.6 | M41: 4742.1 | N41: 4884.4 | O41: 5131.7 | P41: 5280.2 | Q41: 5529.5 | R41: 5650.8 | S41: 5782 | T41: 5951.5 | U41: 6194.6 | V41: 6413.7 | W41: 6751.1 | X41: 6978.8 | Y41: =Y19 -> 7424.9 | Z41: =Z19 -> 8133.8 | AA41: =AA19 -> 8236.5 | AB41: =AB19 -> 8131.2 | AC41: =AC19 -> 8269.2 | AD41: =AD19 -> 8626.3 | AE41: =AE19 -> 8885.6 | AF41: =AF19 -> 9158.7 | ... BF41: =BF19 -> 18618.3
A42: Net book value per share in PLN | B42: Wartość księgowa na jedną akcję w zł | C42: =+C41/C40*1000000 -> 29.99462 | D42: =+D41/D40*1000000 -> 27.840123 | E42: =+E41/E40*1000000 -> 29.365104 | F42: =+F41/F40*1000000 -> 29.506533 | G42: =+G41/G40*1000000 -> 30.850884 | H42: =+H41/H40*1000000 -> 30.573405 | I42: =+I41/I40*1000000 -> 32.88163 | J42: =+J41/J40*1000000 -> 32.453497 | ... BF42: =+BF41/BF40*1000000 -> 143.10761
A43: Earnings per 1 share in PLN | B43: Zysk na 1 akcję w zł | C43: =(C10/C40)*1000000 -> 1.2867025 | D43: =(D10/D40)*1000000 -> 1.2897771 | E43: =(E10/E40)*1000000 -> 1.5219062 | F43: =(F10/F40)*1000000 -> 0.74942352 | G43: =(G10/G40)*1000000 -> 1.3358955 | H43: =(H10/H40)*1000000 -> 1.7963105 | I43: =(I10/I40)*1000000 -> 1.2828593 | J43: =(J10/J40)*1000000 -> -0.99154497 | ... BF43: =(BF10/BF40)*1000000 -> 2.4127594
A44: Market capitalisation | B44: Kapitalizacja giełdowa | C44: =(+C45*C40)/1000000 -> 9887.6 | D44: =+(D45*D40)/1000000 -> 13049.03 | E44: =(+E45*E40)/1000000 -> 11839.1 | F44: =(+F45*F40)/1000000 -> 9432.25 | G44: =(+G45*G40)/1000000 -> 6895.3 | H44: =+(H45*H40)/1000000 -> 5399.15 | I44: =(+I45*I40)/1000000 -> 6648.11 | J44: =(+J45*J40)/1000000 -> 5594.3 | K44: =(+K45*K40)/1000000 -> 2758.12 | L44: =+(L45*L40)/1000000 -> 4566.51 | M44: =(+M45*M40)/1000000 -> 8326.4 | N44: =(+N45*N40)/1000000 -> 10147.8 | O44: =(+O45*O40)/1000000 -> 9705.46 | P44: =+(P45*P40)/1000000 -> 9822.55 | Q44: =(+Q45*Q40)/1000000 -> 10733.25 | R44: =(+R45*R40)/1000000 -> 11630.94 | S44: =(+S45*S40)/1000000 -> 11630.94 | T44: =+(T45*T40)/1000000 -> 11227.63 | U44: =(+U45*U40)/1000000 -> 9627.4 | V44: =(+V45*V40)/1000000 -> 10225.86 | W44: =(+W45*W40)/1000000 -> 11500.84 | X44: =(+X45*X40)/1000000 -> 10616.16 | Y44: =(+Y45*Y40)/1000000 -> 10941.41 | Z44: =(+Z45*Z40)/1000000 -> 11839.1 | AA44: =(+AA45*AA40)/1000000 -> 11813.08 | AB44: =(+AB45*AB40)/1000000 -> 12315.266 | ... BF44: =(+BF45*BF40)/1000000 -> 22247.1
A45: Share price in PLN | B45: Kurs akcji w zł | C45: 76 | D45: 100.3 | E45: 91 | F45: 72.5 | G45: 53 | H45: 41.5 | I45: 51.1 | J45: 43 | K45: 21.2 | L45: 35.1 | M45: 64 | N45: 78 | O45: 74.6 | P45: 75.5 | Q45: 82.5 | R45: 89.4 | S45: 89.4 | T45: 86.3 | U45: 74 | V45: 78.6 | W45: 88.4 | X45: 81.6 | Y45: 84.1 | Z45: 91 | AA45: 90.8 | AB45: 94.66 | AC45: 112 | AD45: 113.35 | AE45: 132.5 | AF45: 132.6 | AG45: 148 | AH45: 139.9 | AI45: 136.8 | AJ45: 127 | AK45: 119.2 | AL45: 117.15 | AM45: 121 | AN45: 123.45 | AO45: 148 | AP45: 161.4 | AQ45: 172.1 | AR45: 182.4 | AS45: 204.5 | AT45: 205.6 | AU45: 196.8 | AV45: 179 | AW45: 182.8 | AX45: 180 | AY45: 192.02 | AZ45: 202 | BA45: 199.4 | BB45: 202.5 | BC45: 148.8 | BD45: 142.2 | BE45: 123 | BF45: 171
A47: Other quantitative data: | B47: Pozostałe dane ilościowe:
A48: Number of retail clients in thousands | B48: Liczba klientów detalicznych w tys. | C48: 2089 | D48: 2133 | E48: 2213 | F48: 2257 | G48: 2343 | H48: 2411 | I48: 2525 | J48: 2598 | K48: 2632 | L48: 2673 | M48: 2705 | N48: 2761 | O48: 2805 | P48: 2858 | Q48: 2917 | R48: 2969 | S48: 3000 | T48: 3028 | U48: 3046 | V48: 3073 | W48: 3123 | X48: 3145 | Y48: 3199 | Z48: 3236 | AA48: 3268 | AB48: 3316 | AC48: 3347 | AD48: 3542 | AE48: 3546 | AF48: 3602 | AG48: 3668 | AH48: 3727 | AI48: 3806 | AJ48: 3883 | AK48: 3958 | AL48: 4016 | AM48: 4081 | AN48: 4149 | AO48: 4202 | AP48: 4272 | AQ48: 4329 | AR48: 4393 | AS48: 4468 | AT48: 4532 | AU48: 4610 | AV48: 4680 | AW48: 4757 | AX48: 4796 | AY48: 4483 | AZ48: 4532 | BA48: 4288 | BB48: 4049 | BC48: 4133 | BD48: 4165 | BE48: 4215 | BF48: 4236
A49: Total number of clients in thousands | B49: Łączna liczba klientów w tys. | AD49: 3577 | AE49: 3581 | AF49: 3639 | AG49: 3706 | AH49: 3766 | AI49: 3846 | AJ49: 3924 | AK49: 4001 | AL49: 4060 | AM49: 4127 | AN49: 4197 | AO49: 4251 | AP49: 4323 | AQ49: 4381 | AR49: 4448 | AS49: 4524 | AT49: 4590 | AU49: 4669 | AV49: 4741 | AW49: 4819 | AX49: 4860 | AY49: 4934 | AZ49: 4982 | BA49: 4727 | BB49: 4503 | BC49: 4606 | BD49: 4648 | BE49: 4700 | BF49: 4722
A50: Number of outlets | B50: Liczba placówek | C50: ='Pozostałe informacje_other info'!C13 -> 350 | D50: ='Pozostałe informacje_other info'!D13 -> 361 | E50: ='Pozostałe informacje_other info'!E13 -> 375 | F50: ='Pozostałe informacje_other info'!F13 -> 404 | G50: ='Pozostałe informacje_other info'!G13 -> 415 | H50: ='Pozostałe informacje_other info'!H13 -> 430 | I50: ='Pozostałe informacje_other info'!I13 -> 432 | J50: ='Pozostałe informacje_other info'!J13 -> 439 | ... BF50: ='Pozostałe informacje_other info'!BF13 -> 290
...

Sheet RZiS_P&L
A1: Comparable data pro-forma | B1: Dane porównywalne pro-forma
A2: CONSOLIDATED INCOME STATEMENT of the ING Bank Śląski Group S.A. | B2: SKONSOLIDOWANY RACHUNEK ZYSKÓW I STRAT Grupy Kapitałowej ING Banku Śląskiego S.A. | C2: 2007 | G2: 2008 | K2: 2009 | O2: 2010 | S2: 2011 | W2: 2012 | AA2: 2013 | AE2: 2014 | AI2: 2015 | AM2: 2016 | AQ2: 2017 | AU2: 2018 | AY2: 2019 | BC2: 2020
C3: 1Q | D3: 2Q | E3: 3Q | F3: 4Q | G3: 1Q | H3: 2Q | I3: 3Q | J3: 4Q | K3: 1Q | L3: 2Q | M3: 3Q | N3: 4Q | O3: 1Q | P3: 2Q | Q3: 3Q | R3: 4Q | S3: 1Q | T3: 2Q | U3: 3Q | V3: 4Q | W3: 1Q | X3: 2Q | Y3: 3Q | Z3: 4Q | AA3: 1Q | AB3: 2Q | AC3: 3Q | AD3: 4Q | AE3: 1Q | AF3: 2Q | AG3: 3Q | AH3: 4Q | AI3: 1Q | AJ3: 2Q | AK3: 3Q | AL3: 4Q | AM3: 1Q | AN3: 2Q | AO3: 3Q | AP3: 4Q | AQ3: 1Q | AR3: 2Q | AS3: 3Q | AT3: 4Q | AU3: 1Q | AV3: 2Q | AW3: 3Q | AX3: 4Q | AY3: 1Q | AZ3: 2Q | BA3: 3Q | BB3: 4Q | BC3: 1Q | BD3: 2Q | BE3: 3Q | BF3: 4Q
A4: (PLN million) | B4: (w mln zł)
A5: - Interest income | B5: - Przychody z tytułu odsetek w tym | C5: 556 | D5: 586 | E5: 618.3 | F5: 673.3 | G5: 750.5 | H5: 855.3 | I5: 910.1 | J5: 982.8 | K5: 860.8 | L5: 773.3 | M5: 732.1 | N5: 711.5 | O5: 726.8 | P5: 723.1 | Q5: 747.3 | R5: 751.5 | S5: 772.6 | T5: 833.6 | U5: 882.3 | V5: 897 | W5: 945.2 | X5: 945.2 | Y5: 963.2 | Z5: 977.9 | AA5: 925.1 | AB5: 902.8 | AC5: 895.4 | AD5: 891.4 | AE5: 903.8 | AF5: 932.6 | AG5: 962.2 | AH5: 925.9 | AI5: 887 | AJ5: 878 | AK5: 928.5 | AL5: 935.1 | AM5: 935 | AN5: 961.2 | AO5: 1010.5 | AP5: 1016.2 | AQ5: 1004.3 | AR5: 1040.6 | AS5: 1081.6 | AT5: 1111 | AU5: 1098.1 | AV5: 1150.2 | AW5: 1194.7 | AX5: 1230.8 | AY5: 1263.1 | AZ5: 1314.1 | BA5: 1367.5 | BB5: 1366.6 | BC5: 1386.6 | BD5: 1304 | BE5: 1277.3 | BF5: 1279
A6: Interest income on assets measured at amortised cost | B6: przychody odsetkowe od aktywów wycenianych wg zamortyzowanego kosztu | C6: - | D6: - | E6: - | F6: - | G6: - | H6: - | I6: - | J6: - | K6: - | L6: - | M6: - | N6: - | O6: - | P6: - | Q6: - | R6: - | S6: - | T6: - | U6: - | V6: - | W6: - | X6: - | Y6: - | Z6: - | AA6: - | AB6: - | AC6: - | AD6: - | AE6: - | AF6: - | AG6: - | AH6: - | AI6: - | AJ6: - | AK6: - | AL6: - | AM6: - | AN6: - | AO6: - | AP6: - | AQ6: - | AR6: - | AS6: - | AT6: - | AU6: =AU5-AU7 -> 1096.8 | AV6: =AV5-AV7 -> 1148.8 | AW6: =AW5-AW7 -> 1193.4 | AX6: =AX5-AX7 -> 1229.5 | AY6: =AY5-AY7 -> 1262 | AZ6: =AZ5-AZ7 -> 1313 | BA6: =BA5-BA7 -> 1366.5 | BB6: =BB5-BB7 -> 1365.7 | ... BF6: =BF5-BF7 -> 1278.4
A7: Other interest income | B7: pozostałe przychody odsetkowe | C7: - | D7: - | E7: - | F7: - | G7: - | H7: - | I7: - | J7: - | K7: - | L7: - | M7: - | N7: - | O7: - | P7: - | Q7: - | R7: - | S7: - | T7: - | U7: - | V7: - | W7: - | X7: - | Y7: - | Z7: - | AA7: - | AB7: - | AC7: - | AD7: - | AE7: - | AF7: - | AG7: - | AH7: - | AI7: - | AJ7: - | AK7: - | AL7: - | AM7: - | AN7: - | AO7: - | AP7: - | AQ7: - | AR7: - | AS7: - | AT7: - | AU7: 1.3 | AV7: 1.4 | AW7: 1.3 | AX7: 1.3 | AY7: 1.1 | AZ7: 1.1 | BA7: 1 | BB7: 0.9 | BC7: 0.8 | BD7: 0.7 | BE7: 0.7 | BF7: 0.6
A8: - Interest expenses | B8: - Koszty odsetek | C8: =320.1-0.2 -> 319.9 | D8: 339.1 | E8: 363.7 | F8: 410.1 | G8: 467.1 | H8: 539.5 | I8: 589.2 | J8: 650.3 | K8: 549.7 | L8: 414.3 | M8: 354.1 | N8: 357.1 | O8: 336.4 | P8: 317.8 | Q8: 337.1 | R8: 329.8 | S8: 337.7 | T8: 374.1 | U8: 404.9 | V8: 417.3 | W8: 431.7 | X8: 431.1 | Y8: 447.7 | Z8: 472.1 | AA8: 449.3 | AB8: 407.5 | AC8: 369.3 | AD8: 346 | AE8: 335.9 | AF8: 350.4 | AG8: 365.3 | AH8: 342.7 | AI8: 318 | AJ8: 283.9 | AK8: 283.9 | AL8: 275.7 | AM8: 266.9 | AN8: 270.3 | AO8: 225.6 | AP8: 206.7 | AQ8: 209.5 | AR8: 210.1 | AS8: 212.7 | AT8: 215.8 | AU8: 215.1 | AV8: 230.2 | AW8: 233.5 | AX8: 235.7 | AY8: 242.9 | AZ8: 260.9 | BA8: 239.7 | BB8: 242.7 | BC8: 234.5 | BD8: 204.8 | BE8: 141 | BF8: 124.8
A9: Net interest income | B9: Wynik z tytułu odsetek | C9: =C5-C8 -> 236.1 | D9: =D5-D8 -> 246.9 | E9: =E5-E8 -> 254.6 | F9: =F5-F8 -> 263.2 | G9: =G5-G8 -> 283.4 | H9: =H5-H8 -> 315.8 | I9: =I5-I8 -> 320.9 | J9: =J5-J8 -> 332.5 | ... BF9: =BF5-BF8 -> 1154.2
A10: - Commission income | B10: - Przychody z tytułu prowizji | C10: 239 | D10: 248.5 | E10: =251.9-0.1 -> 251.8 | F10: 241.5 | G10: 228.8 | H10: 235.7 | I10: 244.7 | J10: 268.5 | K10: =256.1-0.1 -> 256 | L10: =275.3-0.7 -> 274.6 | M10: =278 -> 278 | N10: =275.7-0.2 -> 275.5 | O10: =264.1-0.1 -> 264 | P10: =277.6-0.1 -> 277.5 | Q10: =287.2-0.4 -> 286.8 | R10: =288.2-0.4 -> 287.8 | S10: =285.9-0.3 -> 285.6 | T10: =295.7-0.7 -> 295 | U10: =297.7-0.5 -> 297.2 | V10: =290.8-0.9 -> 289.9 | W10: =280.7-0.7-0.3 -> 279.7 | X10: =285.4-0.8-0.3 -> 284.3 | Y10: =283.8-0.8-0.3 -> 282.7 | Z10: =292.6-1.6-0.3 -> 290.7 | AA10: =271.3-0.3-0.1-0.3 -> 270.6 | AB10: =294.2-0.5-10.3-0.2-0.1-0.3 -> 282.8 | AC10: =263.4-1.2+5.1-0.3-1-0.3 -> 265.7 | AD10: =292.2-0.5-1.8-0.3 -> 289.6 | AE10: =297.7-0.9-0.3 -> 296.5 | AF10: =305.8-0.2-0.3 -> 305.3 | AG10: =286.4-0.6-0.3 -> 285.5 | AH10: =280-0.3 -> 279.7 | AI10: =277-1.3 -> 275.7 | AJ10: =291.3-0.3 -> 291 | AK10: =279.8-0.3 -> 279.5 | AL10: =286.6-0.3 -> 286.3 | AM10: =285.6-1.7 -> 283.9 | AN10: =294.7-0.3 -> 294.4 | AO10: =303.1-0.3 -> 302.8 | AP10: 320.2 | AQ10: 350.9 | AR10: 358.9 | AS10: 375.9 | AT10: 384.4 | AU10: 385 | AV10: 418.2 | AW10: 395.3 | AX10: 417 | AY10: 399.6 | AZ10: 443.9 | BA10: 433.9 | BB10: 446.7 | BC10: 460.6 | BD10: 448.6 | BE10: 506.4 | BF10: 547.9
A11: - Commission expenses | B11: - Koszty prowizji | C11: =16.7-1 -> 15.7 | D11: =15.2-1 -> 14.2 | E11: =21.1-1 -> 20.1 | F11: =29-1 -> 28 | G11: =22.1-1.2 -> 20.9 | H11: =19.9-1.2 -> 18.7 | I11: =16.4-1.2 -> 15.2 | J11: =29.6-1.2 -> 28.4 | K11: =22.1-4.1-0.1 -> 17.9 | L11: =25.4-4.1-0.7 -> 20.6 | M11: =25-4.1 -> 20.9 | N11: =48.2-4.1-0.2 -> 43.9 | O11: =35.6-3.9-0.1 -> 31.6 | P11: =30.7-3.9-0.1 -> 26.7 | Q11: =31.6-3.9-0.4 -> 27.3 | R11: =31.9-3.9-0.4 -> 27.6 | S11: =34.5-9.1-0.3 -> 25.1 | T11: =37.3-9.1-0.7 -> 27.5 | U11: =36.3-9.1-0.5 -> 26.7 | V11: =40.8-9.1-0.9 -> 30.8 | W11: =33.7-11-0.7-0.3 -> 21.7 | X11: =35-11-0.8-0.3 -> 22.9 | Y11: =32.6-11-0.8-0.3 -> 20.5 | Z11: =36.9-11-1.6-0.3 -> 24 | AA11: =31.5-11.3-0.3-0.1-0.3 -> 19.5 | AB11: =33.8-11.4-0.2-0.1-0.3 -> 21.8 | AC11: =33.6-11.3-0.3-1-0.3 -> 20.7 | AD11: =38.7-11.3-0.5-1.8-0.3 -> 24.8 | AE11: =21.6-0.9-0.3 -> 20.4 | AF11: =26.2-0.2-0.3 -> 25.7 | AG11: =28.1-0.6-0.3 -> 27.2 | AH11: =31.1-0.3 -> 30.8 | AI11: =27-1.3 -> 25.7 | AJ11: =27.8-0.3 -> 27.5 | AK11: =30.9-0.3 -> 30.6 | AL11: =31.8-0.3 -> 31.5 | AM11: =31.7-1.7 -> 30 | AN11: =36.6-0.3 -> 36.3 | AO11: =33.8-0.3 -> 33.5 | AP11: 36.7 | AQ11: 60.1 | AR11: 65.8 | AS11: 66 | AT11: 82.2 | AU11: 66.9 | AV11: 78.6 | AW11: 78.8 | AX11: 86.3 | AY11: 81.8 | AZ11: 90.2 | BA11: 101.3 | BB11: 110.3 | BC11: 101.5 | BD11: 104.6 | BE11: 112.8 | BF11: 116.2
A12: Net commission income | B12: Wynik z tytułu prowizji | C12: =C10-C11 -> 223.3 | D12: =D10-D11 -> 234.3 | E12: =E10-E11 -> 231.7 | F12: =F10-F11 -> 213.5 | G12: =G10-G11 -> 207.9 | H12: =H10-H11 -> 217 | I12: =I10-I11 -> 229.5 | J12: =J10-J11 -> 240.1 | ... BF12: =BF10-BF11 -> 431.7
A13: - Net income on financial instruments measured at fair value through profit or loss and FX result | B13: - Wynik na instrumentach finansowych wycenianych przez rachunek zysków i strat oraz wynik z pozycji wymiany | C13: 37.8 | D13: 17.4 | E13: 36.3 | F13: -8.5 | G13: 72.5 | H13: 64.8 | I13: 53.4 | J13: -307.9 | K13: -24 | L13: 43.6 | M13: 58.8 | N13: 19.5 | O13: 28.5 | P13: 22.8 | Q13: 24.4 | R13: 1.8 | S13: 26.8 | T13: =11.5-0.1 -> 11.4 | U13: -8.1 | V13: -11.8 | W13: 53.7 | X13: 12.3 | Y13: 18.9 | Z13: 0.6 | AA13: =17.1-1 -> 16.1 | AB13: =24+10.3-5.2 -> 29.1 | AC13: =41.5-5.1-16.2 -> 20.2 | AD13: 10.1 | AE13: =25.3-0.4 -> 24.9 | AF13: =22.8 -> 22.8 | AG13: 23.6 | AH13: 23.1 | AI13: 15.2 | AJ13: 27.5 | AK13: 19.5 | AL13: 22.9 | AM13: 23 | AN13: 5.1 | AO13: 16.4 | AP13: 12.7 | AQ13: 36.7 | AR13: 27.6 | AS13: 31.3 | AT13: 23.2 | AU13: 18 | AV13: 24.4 | AW13: 27.1 | AX13: 21.4 | AY13: 31.4 | AZ13: 25.1 | BA13: 26.6 | BB13: 25.2 | BC13: 13.9 | BD13: 44.3 | BE13: 24.4 | BF13: 20.9
A14: - Net income on the sale of securities and dividend income | B14: - Wynik na sprzedaży papierów wartościowych oraz przychody z tytułu dywidend | C14: - | D14: - | E14: - | F14: - | G14: - | H14: - | I14: - | J14: - | K14: - | L14: - | M14: - | N14: - | O14: - | P14: - | Q14: - | R14: - | S14: - | T14: - | U14: - | V14: - | W14: - | X14: - | Y14: - | Z14: - | AA14: - | AB14: - | AC14: - | AD14: - | AE14: - | AF14: - | AG14: - | AH14: - | AI14: - | AJ14: - | AK14: - | AL14: - | AM14: - | AN14: - | AO14: - | AP14: - | AQ14: - | AR14: - | AS14: - | AT14: - | AU14: 33.3 | AV14: 18.2 | AW14: 0 | AX14: 3.8 | AY14: 15.8 | AZ14: 16.4 | BA14: 3.6 | BB14: 0.5 | BC14: 9.1 | BD14: 18.8 | BE14: 5.4 | BF14: 5.1
A15: - Net income on investments | B15: - Wynik na inwestycjach | C15: 16.9 | D15: 6.1 | E15: 1.9 | F15: 0.1 | G15: 0.1 | H15: 24.1 | I15: -0.3 | J15: 6.9 | K15: 0.3 | L15: 8.3 | M15: 5.4 | N15: -10.7 | O15: 4 | P15: 3 | Q15: 0.8 | R15: -5.6 | S15: 18.2 | T15: 6.2 | U15: 7.7 | V15: 5.9 | W15: 19.1 | X15: 6.6 | Y15: -0.9 | Z15: -0.2 | AA15: =120.4-20.9 -> 99.5 | AB15: =-0.3+6.8 -> 6.5 | AC15: =-11.7+3 -> -8.7 | AD15: 0.4 | AE15: =0.1+0.2 -> 0.3 | AF15: 4.9 | AG15: 5.2 | AH15: 5.4 | AI15: =51.5-0.6 -> 50.9 | AJ15: 90.6 | AK15: 23.2 | AL15: 0.3 | AM15: 28.7 | AN15: 196.6 | AO15: 4 | AP15: 3 | AQ15: 10.2 | AR15: 32.8 | AS15: 3.6 | AT15: 0 | AU15: - | AV15: - | AW15: - | AX15: - | AY15: - | AZ15: - | BA15: - | BB15: - | BC15: - | BD15: - | BE15: - | BF15: -
A16: - Net income on hedge accounting | B16: - Wynik na rachunkowości zabezpieczeń | C16: 0 | D16: -0.2 | E16: 1.6 | F16: -0.6 | G16: 0.7 | H16: -0.7 | I16: 2.7 | J16: 1.9 | K16: 17.9 | L16: 6 | M16: -6.7 | N16: 2.9 | O16: -6.9 | P16: -15.3 | Q16: -7.9 | R16: 18 | S16: -16.3 | T16: -3.2 | U16: =-23.6 -> -23.6 | V16: =9.7 -> 9.7 | W16: 1.7 | X16: -5.2 | Y16: -5.5 | Z16: -4.3 | AA16: =-19+20.9+1 -> 2.9 | AB16: =11.5-6.8+5.2 -> 9.9 | AC16: =2.3+16.2-3 -> 15.5 | AD16: 3.7 | AE16: =0.6+0.4-0.2 -> 0.8 | AF16: 3 | AG16: 7.2 | AH16: -2.1 | AI16: =10.8+0.6 -> 11.4 | AJ16: 3.3 | AK16: 2.6 | AL16: 5.6 | AM16: -2.6 | AN16: 0.5 | AO16: 0.2 | AP16: -0.7 | AQ16: 2 | AR16: 8.3 | AS16: 1.3 | AT16: 3.7 | AU16: 2.2 | AV16: 2 | AW16: -0.7 | AX16: 4.4 | AY16: -1.2 | AZ16: -0.9 | BA16: -6.7 | BB16: -5.5 | BC16: 23.7 | BD16: 4.9 | BE16: -14.1 | BF16: -3
A17: - Net income on other basic activities | B17: - Wynik na pozostałej działalności podstawowej | C17: 12.7 | D17: 6.8 | E17: 6.6 | F17: -5.2 | G17: 6.5 | H17: -9.5 | I17: 1 | J17: 21 | K17: 7.9 | L17: 2.7 | M17: 5.4 | N17: -24.1 | O17: 6.3 | P17: 5 | Q17: 6.5 | R17: -9.9 | S17: 7.8 | T17: 4.9 | U17: 2.7 | V17: 1.4 | W17: 4 | X17: 3.1 | Y17: 3.7 | Z17: 4.6 | AA17: 9.8 | AB17: 4.5 | AC17: 3.7 | AD17: 2.7 | AE17: 2.6 | AF17: 4.1 | AG17: 6.1 | AH17: 7.5 | AI17: 9.5 | AJ17: 2.4 | AK17: -1.7 | AL17: 10.6 | AM17: 4.5 | AN17: 1.2 | AO17: -0.3 | AP17: 14 | AQ17: 0.8 | AR17: -0.7 | AS17: -0.1 | AT17: 3 | AU17: 2.3 | AV17: 6 | AW17: 2 | AX17: 4.1 | AY17: 2.4 | AZ17: 3.8 | BA17: -14.6 | BB17: 2.3 | BC17: 0.4 | BD17: -3.1 | BE17: 2.8 | BF17: -9.1
A18: Result on basic activities | B18: Wynik na działalności podstawowej | C18: =C9+C12+C13+C15+C16+C17 -> 526.8 | D18: =D9+D12+D13+D15+D16+D17 -> 511.3 | E18: =E9+E12+E13+E15+E16+E17 -> 532.7 | F18: =F9+F12+F13+F15+F16+F17 -> 462.5 | G18: =G9+G12+G13+G15+G16+G17 -> 571.1 | H18: =H9+H12+H13+H15+H16+H17 -> 611.5 | I18: =I9+I12+I13+I15+I16+I17 -> 607.2 | J18: =J9+J12+J13+J15+J16+J17 -> 294.5 | ... AT18: =AT9+AT12+AT13+AT15+AT16+AT17 -> 1227.3 | AU18: =AU9+AU12+AU13+AU16+AU17+AU14 -> 1256.9 | AV18: =AV9+AV12+AV13+AV16+AV17+AV14 -> 1310.2 | AW18: =AW9+AW12+AW13+AW16+AW17+AW14 -> 1306.1 | AX18: =AX9+AX12+AX13+AX16+AX17+AX14 -> 1359.5 | AY18: =AY9+AY12+AY13+AY16+AY17+AY14 -> 1386.4 | AZ18: =AZ9+AZ12+AZ13+AZ16+AZ17+AZ14 -> 1451.3 | BA18: =BA9+BA12+BA13+BA16+BA17+BA14 -> 1469.3 | BB18: =BB9+BB12+BB13+BB16+BB17+BB14 -> 1482.8 | ... BF18: =BF9+BF12+BF13+BF16+BF17+BF14 -> 1599.8
A19: - General and administrative expenses | B19: - Koszty działania banku | C19: 336.1 | D19: 345 | E19: 356.9 | F19: 355.1 | G19: 367.7 | H19: 389.9 | I19: 407.7 | J19: 338.6 | K19: 366.8 | L19: 386.6 | M19: 397.3 | N19: 355.2 | O19: 394.4 | P19: 407.1 | Q19: 411.6 | R19: 396.4 | S19: 417.4 | T19: 431.8 | U19: 431.1 | V19: 419.7 | W19: 474.9 | X19: 465 | Y19: 466.2 | Z19: 460.1 | AA19: 482.2 | AB19: 477 | AC19: 458.8 | AD19: 450.4 | AE19: 471.2 | AF19: 480.5 | AG19: 489.5 | AH19: 488.5 | AI19: 495.6 | AJ19: 502.3 | AK19: 509.8 | AL19: 648 | AM19: 508.8 | AN19: 517.2 | AO19: 515.5 | AP19: 557.7 | AQ19: 565.6 | AR19: 512.1 | AS19: 529.6 | AT19: 528.5 | AU19: 628.3 | AV19: 555 | AW19: 577.2 | AX19: 566.3 | AY19: 721.1 | AZ19: 581.1 | BA19: 604.4 | BB19: 590.8 | BC19: 775 | BD19: 638.5 | BE19: 666.7 | BF19: 682.3
A20: - Tax on certain financial institutions | B20: - Podatek od niektórych instytucji finansowych | C20: 0 | D20: 0 | E20: 0 | F20: 0 | G20: 0 | H20: 0 | I20: 0 | J20: 0 | K20: 0 | L20: 0 | M20: 0 | N20: 0 | O20: 0 | P20: 0 | Q20: 0 | R20: 0 | S20: 0 | T20: 0 | U20: 0 | V20: 0 | W20: 0 | X20: 0 | Y20: 0 | Z20: 0 | AA20: 0 | AB20: 0 | AC20: 0 | AD20: 0 | AE20: 0 | AF20: 0 | AG20: 0 | AH20: 0 | AI20: 0 | AJ20: 0 | AK20: 0 | AL20: 0 | AM20: 50.5 | AN20: 76.8 | AO20: 75.7 | AP20: 77.2 | AQ20: 79.4 | AR20: 80.4 | AS20: 84.1 | AT20: 86.2 | AU20: 87.5 | AV20: 92.1 | AW20: 94.7 | AX20: 99.5 | AY20: 102.2 | AZ20: 108.4 | BA20: 111.5 | BB20: 113.6 | BC20: 116 | BD20: 121.1 | BE20: 122 | BF20: 122.5
A21: - Impairment losses and provisions for off-balance sheet liabilities | B21: - Odpisy na utratę wartości aktywów finansowych i rezerwy na zobowiązania pozabilansowe | C21: -6.3 | D21: -26.7 | E21: -64.4 | F21: -5.8 | G21: 0.7 | H21: -58.8 | I21: 7.2 | J21: 116.5 | K21: 91.7 | L21: 73.8 | M21: 54.1 | N21: 84.8 | O21: 48.1 | P21: 39.2 | Q21: 55.1 | R21: 61.2 | S21: 57.1 | T21: 37.7 | U21: 27.1 | V21: 50.5 | W21: 64.3 | X21: 131.2 | Y21: 82.6 | Z21: 84.7 | AA21: 58 | AB21: =64+5.1 -> 69.1 | AC21: 63.7 | AD21: =68+7.3+1.1 -> 76.4 | AE21: 84.1 | AF21: 33.3 | AG21: 65.2 | AH21: 85.1 | AI21: 84.3 | AJ21: 64.3 | AK21: 32 | AL21: 51.5 | AM21: 78.9 | AN21: 33.5 | AO21: 49.7 | AP21: 138.5 | AQ21: 76.4 | AR21: 123.1 | AS21: 109.1 | AT21: 112.6 | AU21: - | AV21: - | AW21: - | AX21: - | AY21: - | AZ21: - | BA21: - | BB21: - | BC21: - | BD21: - | BE21: - | BF21: -
A22: - Impairment for expected losses including legal cost of risk for FX-mortgage loans | B22: - Odpisy z tytułu strat oczekiwanych łącznie z kosztami ryzyka prawnego walutowych kredytów hipotecznych | C22: - | D22: - | E22: - | F22: - | G22: - | H22: - | I22: - | J22: - | K22: - | L22: - | M22: - | N22: - | O22: - | P22: - | Q22: - | R22: - | S22: - | T22: - | U22: - | V22: - | W22: - | X22: - | Y22: - | Z22: - | AA22: - | AB22: - | AC22: - | AD22: - | AE22: - | AF22: - | AG22: - | AH22: - | AI22: - | AJ22: - | AK22: - | AL22: - | AM22: - | AN22: - | AO22: - | AP22: - | AQ22: - | AR22: - | AS22: - | AT22: - | AU22: 94.8 | AV22: 173.7 | AW22: 133.9 | AX22: 98.5 | AY22: 125 | AZ22: 135.9 | BA22: 180.2 | BB22: 164.4 | BC22: 294.7 | BD22: 312.4 | BE22: 145.3 | BF22: 322.5
A23: - Share in net profit (loss) of associated entities recognised under the equity method | B23: - Udział w zyskach netto jednostek stowarzyszonych wycenianych metodą praw własności | C23: 12.4 | D23: 10.9 | E23: 9.6 | F23: 10.7 | G23: 11.6 | H23: 14.2 | I23: 13 | J23: =9.3+0.1 -> 9.4 | K23: 10.1 | L23: 15.5 | M23: 10.4 | N23: 16.1 | O23: 7.3 | P23: 10.9 | Q23: 10.6 | R23: 12.4 | S23: 9.7 | T23: 13.2 | U23: 8.2 | V23: 10.1 | W23: 6.8 | X23: 11.2 | Y23: 7.6 | Z23: 10.1 | AA23: 9 | AB23: 7.8 | AC23: 9.3 | AD23: 12 | AE23: 11.2 | AF23: 1.1 | AG23: 0 | AH23: 0 | AI23: 0 | AJ23: 0 | AK23: 0 | AL23: 0 | AM23: 0 | AN23: 0 | AO23: 0 | AP23: 0 | AQ23: 0 | AR23: 0 | AS23: 0 | AT23: 0 | AU23: 0 | AV23: 0 | AW23: -0.2 | AX23: -0.1 | AY23: -0.1 | AZ23: -0.1 | BA23: 2.8 | BB23: 4 | BC23: 4.4 | BD23: 4 | BE23: 3.7 | BF23: 4
A24: Profit (loss) before tax | B24: Zysk (strata) brutto | C24: =C18-C19-C21+C23 -> 209.4 | D24: =D18-D19-D21+D23 -> 203.9 | E24: =E18-E19-E21+E23 -> 249.8 | F24: =F18-F19-F21+F23 -> 123.9 | G24: =G18-G19-G21+G23 -> 214.3 | H24: =H18-H19-H21+H23 -> 294.6 | I24: =I18-I19-I21+I23 -> 205.3 | J24: =J18-J19-J21+J23 -> -151.2 | ... AL24: =AL18-AL19-AL21+AL23 -> 254.1 | AM24: =AM18-AM19-AM21+AM23-AM20 -> 337.4 | AN24: =AN18-AN19-AN21+AN23-AN20 -> 524.9 | AO24: =AO18-AO19-AO21+AO23-AO20 -> 433.6 | AP24: =AP18-AP19-AP21+AP23-AP20 -> 348.6 | AQ24: =AQ18-AQ19-AQ21+AQ23-AQ20 -> 413.9 | AR24: =AR18-AR19-AR21+AR23-AR20 -> 476 | AS24: =AS18-AS19-AS21+AS23-AS20 -> 492.1 | AT24: =AT18-AT19-AT21+AT23-AT20 -> 500 | AU24: =AU18-AU19+AU23-AU20-AU22 -> 446.3 | AV24: =AV18-AV19+AV23-AV20-AV22 -> 489.4 | AW24: =AW18-AW19+AW23-AW20-AW22 -> 500.1 | AX24: =AX18-AX19+AX23-AX20-AX22 -> 595.1 | AY24: =AY18-AY19+AY23-AY20-AY22 -> 438 | AZ24: =AZ18-AZ19+AZ23-AZ20-AZ22 -> 625.8 | BA24: =BA18-BA19+BA23-BA20-BA22 -> 576 | BB24: =BB18-BB19+BB23-BB20-BB22 -> 618 | ... BF24: =BF18-BF19+BF23-BF20-BF22 -> 476.5
A25: - Income tax | B25: - Podatek dochodowy | C25: 38.6 | D25: 34.4 | E25: 50.8 | F25: 26.4 | G25: 40.5 | H25: 60.9 | I25: 38.4 | J25: -22.2 | K25: 22.1 | L25: 46 | M25: 46.2 | N25: 28.9 | O25: 42 | P25: 44.7 | Q25: 45 | R25: 49.3 | S25: 54.6 | T25: 56.1 | U25: =56.5 -> 56.5 | V25: 70.3 | W25: 46.1 | X25: 39.7 | Y25: 49.5 | Z25: 48.5 | AA25: =63.8+0.3+0.3-0.1 -> 64.3 | AB25: =52.2-0.1-1 -> 51.1 | AC25: =53.5+0.7 -> 54.2 | AD25: =63.4-1.4-0.2 -> 61.8 | AE25: 73.9 | AF25: 101.5 | AG25: 69.5 | AH25: 61.7 | AI25: 65.1 | AJ25: 70.1 | AK25: 79.6 | AL25: 48.4 | AM25: 78.2 | AN25: 118 | AO25: 101.6 | AP25: 93.6 | AQ25: 113.6 | AR25: 115.7 | AS25: 116.4 | AT25: 133.2 | AU25: 124.1 | AV25: 117.7 | AW25: 121.8 | AX25: 143.5 | AY25: 113.5 | AZ25: 156.7 | BA25: 161.2 | BB25: 167.7 | BC25: 109.7 | BD25: 123.9 | BE25: 177.9 | BF25: 162.6
A26: Net profit (loss) from continuing operations | B26: Zysk (strata) netto | C26: =C24-C25 -> 170.8 | D26: =D24-D25 -> 169.5 | E26: =E24-E25 -> 199 | F26: =F24-F25 -> 97.5 | G26: =G24-G25 -> 173.8 | H26: =H24-H25 -> 233.7 | I26: =I24-I25 -> 166.9 | J26: =J24-J25 -> -129 | ... BF26: =BF24-BF25 -> 313.9
A27: - Net profit (loss) attributable to shareholders of ING Bank Śląski S.A. | B27: - przypadający akcjonariuszom ING Banku Śląskiego S.A. | C27: =C26-C28 -> 167.4 | D27: =D26-D28 -> 167.8 | E27: =E26-E28 -> 198 | F27: =F26-F28 -> 97.5 | G27: =G26-G28 -> 173.8 | H27: =H26-H28 -> 233.7 | I27: =I26-I28 -> 166.9 | J27: =J26-J28 -> -129 | ... BF27: =BF26-BF28 -> 313.9
A28: - attributable to non-controlling interests | B28: - przypadający akcjonariuszom niekontrolującym | C28: 3.4 | D28: 1.7 | E28: 1 | F28: 0 | G28: 0 | H28: 0 | I28: 0 | J28: 0 | K28: 0 | L28: 0 | M28: 0 | N28: 0 | O28: 0 | P28: 0 | Q28: 0 | R28: 0 | S28: 0 | T28: 0 | U28: 0 | V28: 0 | W28: 0 | X28: 0 | Y28: 0 | Z28: 0 | AA28: 0 | AB28: 0 | AC28: 0 | AD28: 0 | AE28: 0 | AF28: 0.1 | AG28: 0.1 | AH28: -0.1 | AI28: 0 | AJ28: 0.1 | AK28: 0 | AL28: 0 | AM28: 0 | AN28: 0 | AO28: 0 | AP28: 0.1 | AQ28: 0 | AR28: 0 | AS28: 0 | AT28: 0 | AU28: 0 | AV28: 0 | AW28: 0 | AX28: 0 | AY28: 0 | AZ28: 0 | BA28: 0 | BB28: 0 | BC28: 0 | BD28: 0 | BE28: 0 | BF28: 0
A30: Net profit for the period | B30: Zysk netto za okres sprawozdawczy | AU30: =AU27 -> 322.2 | AV30: =AV27 -> 371.7 | AW30: =AW27 -> 378.3 | AX30: =AX27 -> 451.6 | AY30: =AY27 -> 324.5 | AZ30: =AZ27 -> 469.1 | BA30: =BA27 -> 414.8 | BB30: =BB27 -> 450.3 | ... BF30: =BF27 -> 313.9
A31: Total other comprehensive income, including: | B31: Pozostałe całkowite dochody netto, w tym: | AU31: =AU32+AU37 -> 189.7 | AV31: =AV32+AV37 -> -126 | AW31: =AW32+AW37 -> -106.4 | AX31: =AX32+AX37 -> 722.1 | AY31: =AY32+AY37 -> 222.5 | AZ31: =AZ32+AZ37 -> 337.3 | BA31: =BA32+BA37 -> 628.1 | BB31: =BB32+BB37 -> -489.7 | ... BF31: =BF32+BF37 -> -291.4
A32: Items which can be reclassified to income statement, including: | B32: Pozycje, które mogą być przeklasyfikowane do rachunku zysków i strat, w tym: | AU32: =+AU33+AU34+AU35+AU36 -> 189.7 | AV32: =+AV33+AV34+AV35+AV36 -> -126.8 | AW32: =+AW33+AW34+AW35+AW36 -> -106.3 | AX32: =+AX33+AX34+AX35+AX36 -> 717.4 | AY32: =+AY33+AY34+AY35+AY36 -> 198.6 | AZ32: =+AZ33+AZ34+AZ35+AZ36 -> 325.9 | BA32: =+BA33+BA34+BA35+BA36 -> 628.1 | BB32: =+BB33+BB34+BB35+BB36 -> -466.7 | ... BF32: =+BF33+BF34+BF35+BF36 -> -312.9
A33: - debt instruments measured at fair value through other comprehensive income – gains/(losses) on revaluation carried through equity | B33: - dłużne papiery wartościowe wyceniane według wartości godziwej przez inne całkowite dochody – zyski / straty z rewaluacji odnoszone na kapitał własny | AU33: 57.6 | AV33: -41.9 | AW33: -0.2 | AX33: -3.4 | AY33: -96.1 | AZ33: 101.4 | BA33: -6.8 | BB33: 18.8 | BC33: -232.8 | BD33: 154.2 | BE33: 55.2 | BF33: 126.2
A34: - debt instruments measured at fair value through other comprehensive income – reclassification to the financial result due to sale | B34: - dłużne papiery wartościowe wyceniane według wartości godziwej przez inne całkowite dochody – przeniesienie na wynik finansowy w związku ze sprzedażą | AU34: -19.1 | AV34: -9.6 | AW34: 0 | AX34: -3.1 | AY34: 2.4 | AZ34: -22.8 | BA34: -2.9 | BB34: -0.4 | BC34: -1.5 | BD34: -8.3 | BE34: -4.4 | BF34: -4.1
A35: - cash flow hedging – gains/(losses) on revaluation carried through equity | B35: - zabezpieczenie przepływów pieniężnych – zyski / straty z rewaluacji odnoszone na kapitał własny | AU35: 246.4 | AV35: -13 | AW35: -18 | AX35: 817.7 | AY35: 389.2 | AZ35: 348 | BA35: 737.1 | BB35: -391 | BC35: 2174.4 | BD35: 547.7 | BE35: 52.6 | BF35: -212.2
A36: - cash flow hedging – reclassification to profit or loss | B36: - zabezpieczenie przepływów pieniężnych – przeniesienie do zysku lub straty | AU36: -95.2 | AV36: -62.3 | AW36: -88.1 | AX36: -93.8 | AY36: -96.9 | AZ36: -100.7 | BA36: -99.3 | BB36: -94.1 | BC36: -89.8 | BD36: -121.2 | BE36: -183.3 | BF36: -222.8
A37: Items which will not be reclassified to income statement, including: | B37: Pozycje, które nie zostaną przeklasyfikowane do rachunku zysków i strat, w tym: | AU37: =+AU38+AU39+AU40 -> 0 | AV37: =+AV38+AV39+AV40 -> 0.8 | AW37: =+AW38+AW39+AW40 -> -0.1 | AX37: =+AX38+AX39+AX40 -> 4.7 | AY37: =+AY38+AY39+AY40 -> 23.9 | AZ37: =+AZ38+AZ39+AZ40 -> 11.4 | BA37: =+BA38+BA39+BA40 -> 0 | BB37: =+BB38+BB39+BB40 -> -23 | ... BF37: =+BF38+BF39+BF40 -> 21.5
A38: - equity instruments measured at fair value through other comprehensive income – gains/(losses) on revaluation carried through equity | B38: - kapitałowe instrumenty finansowe wyceniane według wartości godziwej przez inne całkowite dochody – zyski / straty z rewaluacji odnoszone na kapitał własny | AU38: 0 | AV38: 0.8 | AW38: -0.1 | AX38: 5.6 | AY38: 23.9 | AZ38: 11.4 | BA38: 0 | BB38: -13.1 | BC38: 0 | BD38: 6 | BE38: 0 | BF38: 24.9
A39: - revaluation of tangible fixed assets | B39: - aktualizacja wyceny rzeczowych aktywów trwałych | AU39: 0 | AV39: 0 | AW39: 0 | AX39: 0 | AY39: 0 | AZ39: 0 | BA39: 0 | BB39: 0.3 | BC39: 0.1 | BD39: -0.1 | BE39: 0 | BF39: 0
A40: - actuarial gains / losses | B40: - zyski / straty aktuarialne | AU40: 0 | AV40: 0 | AW40: 0 | AX40: -0.9 | AY40: 0 | AZ40: 0 | BA40: 0 | BB40: -10.2 | BC40: 0 | BD40: 0 | BE40: 0 | BF40: -3.4
A41: Net comprehensive income for the reporting period, including: | B41: Całkowity dochód netto za okres sprawozdawczy | AU41: =+AU30+AU31 -> 511.9 | AV41: =+AV30+AV31 -> 245.7 | AW41: =+AW30+AW31 -> 271.9 | AX41: =+AX30+AX31 -> 1173.7 | AY41: =+AY30+AY31 -> 547 | AZ41: =+AZ30+AZ31 -> 806.4 | BA41: =+BA30+BA31 -> 1042.9 | BB41: =+BB30+BB31 -> -39.4 | ... BF41: =+BF30+BF31 -> 22.5
...

Sheet RZiS B. Korp._P&L Corporate
A1: Comparable data pro-forma | B1: Dane porównywalne pro-forma | AY1: nowa segmentacja / new segmentation ->
A2: CONSOLIDATED INCOME STATEMENT Corporate customers segment | B2: SKONSOLIDOWANY RACHUNEK ZYSKÓW I STRAT Segment bankowości korporacyjnej | C2: 2007 | G2: 2008 | K2: 2009 | O2: 2010 | S2: 2011 | W2: 2012 | AA2: 2013 | AE2: 2014 | AI2: 2015 | AM2: 2016 | AQ2: 2017 | AT2: 2017 | AU2: 2018 | AY2: 2019 | BC2: 2020
C3: 1Q | D3: 2Q | E3: 3Q | F3: 4Q | G3: 1Q | H3: 2Q | I3: 3Q | J3: 4Q | K3: 1Q | L3: 2Q | M3: 3Q | N3: 4Q | O3: 1Q | P3: 2Q | Q3: 3Q | R3: 4Q | S3: 1Q | T3: 2Q | U3: 3Q | V3: 4Q | W3: 1Q | X3: 2Q | Y3: 3Q | Z3: 4Q | AA3: 1Q | AB3: 2Q | AC3: 3Q | AD3: 4Q | AE3: 1Q | AF3: 2Q | AG3: 3Q | AH3: 4Q | AI3: 1Q | AJ3: 2Q | AK3: 3Q | AL3: 4Q | AM3: 1Q | AN3: 2Q | AO3: 3Q | AP3: 4Q | AQ3: 1Q | AR3: 2Q | AS3: 3Q | AT3: 4Q | AU3: 1Q | AV3: 2Q | AW3: 3Q | AX3: 4Q | AY3: 1Q | AZ3: 2Q | BA3: 3Q | BB3: 4Q | BC3: 1Q | BD3: 2Q | BE3: 3Q | BF3: 4Q
A4: (PLN million) | B4: (w mln zł)
A5: Revenue total* | B5: Przychody ogółem* | C5: =SUM(C6:C9) -> 219.23446 | D5: =SUM(D6:D9) -> 212.83446 | E5: =SUM(E6:E9) -> 221.73446 | F5: =SUM(F6:F9) -> 192.53446 | G5: =SUM(G6:G9) -> 285.24199 | H5: =SUM(H6:H9) -> 273.34199 | I5: =SUM(I6:I9) -> 277.34199 | J5: =SUM(J6:J9) -> 34.441991 | ... BF5: =SUM(BF6:BF9) -> 841.74119
A6: Net interest income | B6: wynik z tytułu odsetek | C6: 98.1 | D6: 102.6 | E6: 105.8 | F6: 109.4 | G6: 129.1 | H6: 169.8 | I6: 150.3 | J6: 220.5 | K6: 188.1 | L6: 146 | M6: 224.9 | N6: 201.4 | O6: 212.4 | P6: 203.1 | Q6: 211.1 | R6: 185.2 | S6: 196.6 | T6: 213.7 | U6: 243.5 | V6: 242.8 | W6: 258.72618 | X6: 248.32618 | Y6: 239.32618 | Z6: 256.32618 | AA6: 233.61963 | AB6: 235.29098 | AC6: 244.47208 | AD6: 248.55786 | AE6: 250.5 | AF6: 235.5 | AG6: 234.6 | AH6: 241.7 | AI6: 224.6 | AJ6: 220.9 | AK6: 239.8 | AL6: =265.3-0.4 -> 264.9 | AM6: 265.3 | AN6: =261.3-0.1 -> 261.2 | AO6: =278+0.1 -> 278.1 | AP6: 286.2 | AQ6: 286.6 | AR6: 313.8 | AS6: 325.2 | AT6: 330.5 | AU6: 320.2 | AV6: 332.7 | AW6: 348.3 | AX6: 371.7 | AY6: 478.5 | AZ6: 488.1 | BA6: 531.7 | BB6: 516.9 | BC6: 535.2 | BD6: 522.3 | BE6: 523 | BF6: 521.43096
A7: Net commission income | B7: wynik z tytułu prowizji | C7: 93.134462 | D7: 97.734462 | E7: 96.634462 | F7: 89.034462 | G7: 83.641991 | H7: 70.841991 | I7: 88.741991 | J7: 50.741991 | K7: 91.314958 | L7: 104.41496 | M7: 97.314958 | N7: 143.21496 | O7: 115.13383 | P7: 91.633829 | Q7: 98.633829 | R7: 163.73383 | S7: 129.65274 | T7: 140.05274 | U7: 148.15274 | V7: 135.75274 | W7: 140.82925 | X7: 145.92925 | Y7: 144.62925 | Z7: 146.52925 | AA7: 144.23267 | AB7: 147.46675 | AC7: 147.5657 | AD7: 145.40457 | AE7: 154.2 | AF7: 156.5 | AG7: 160.4 | AH7: 155.4 | AI7: 160.5 | AJ7: 168.7 | AK7: 157.1 | AL7: =167.8+0.1 -> 167.9 | AM7: 163.8 | AN7: =165.9+0.1 -> 166 | AO7: =170.9-0.1 -> 170.8 | AP7: 183.5 | AQ7: 186.1 | AR7: 182.1 | AS7: 201.9 | AT7: 199 | AU7: 197.2 | AV7: 176.7 | AW7: 209.79 | AX7: 206.9 | AY7: 226.7 | AZ7: 228.7 | BA7: 233.9 | BB7: 233.3 | BC7: 256.8 | BD7: 236.5 | BE7: 271.1 | BF7: 306.7
A8: Other income/expenses | B8: pozostałe przychody/koszty | C8: 28 | D8: 12.5 | E8: 19.3 | F8: -5.9 | G8: 72.5 | H8: 32.7 | I8: 38.3 | J8: -236.8 | K8: -16.4 | L8: 84.7 | M8: 45 | N8: -61.8 | O8: 25.7 | P8: 26.7 | Q8: 23.8 | R8: -37 | S8: 26.1 | T8: =4.2 -> 4.2 | U8: -33.2 | V8: -2.1 | W8: 29.517732 | X8: -12.782268 | Y8: -7.0822685 | Z8: -25.882268 | AA8: 37.478428 | AB8: 10.389666 | AC8: -9.1658803 | AD8: -10.014942 | AE8: -6.1 | AF8: 8.9 | AG8: 9.2 | AH8: 0.6 | AI8: 41.3 | AJ8: 22.2 | AK8: 9.6 | AL8: =12.4-0.1 -> 12.3 | AM8: 19.1 | AN8: 9.7 | AO8: =17.7-0.1 -> 17.6 | AP8: 31.1 | AQ8: 27.1 | AR8: 18.7 | AS8: 9 | AT8: 10.5 | AU8: 13.9 | AV8: 13.4 | AW8: 8 | AX8: -7.5 | AY8: 25 | AZ8: 24.7 | BA8: -12.7 | BB8: 22.8 | BC8: 29.1 | BD8: 44.1 | BE8: 12.2 | BF8: 13.610224
A9: Share in net profit (loss) of associated entities recognised under the equity method | B9: udział w zyskach (stratach) netto jednostek stowarzyszonych wykazywanych metodą praw własności | C9: 0 | D9: 0 | E9: 0 | F9: 0 | G9: 0 | H9: 0 | I9: 0 | J9: 0 | K9: 0 | L9: 0 | M9: 0 | N9: 0 | O9: 0 | P9: 0 | Q9: 0 | R9: 0 | S9: 0 | T9: 0 | U9: 0 | V9: 0 | W9: 0 | X9: 0 | Y9: 0 | Z9: 0 | AA9: 0 | AB9: 0 | AC9: 0 | AD9: 0 | AE9: 0 | AF9: 0 | AG9: 0 | AH9: 0 | AI9: 0 | AJ9: 0 | AK9: 0 | AL9: 0 | AM9: 0 | AN9: 0 | AO9: 0 | AP9: 0 | AQ9: 0 | AR9: 0 | AS9: 0 | AT9: 0 | AU9: 0 | AV9: 0 | AW9: -0.2 | AX9: -0.1 | AY9: -0.1 | AZ9: -0.1 | BA9: -0.3 | BB9: -0.4 | BC9: 0 | BD9: 0 | BE9: 0 | BF9: 0
A10: Expenses total | B10: Koszty ogółem | C10: =SUM(C11:C13) -> 122.83446 | D10: =SUM(D11:D13) -> 126.33446 | E10: =SUM(E11:E13) -> 130.53446 | F10: =SUM(F11:F13) -> 130.33446 | G10: =SUM(G11:G13) -> 133.34199 | H10: =SUM(H11:H13) -> 138.34199 | I10: =SUM(I11:I13) -> 157.24199 | J10: =SUM(J11:J13) -> 110.04199 | ... BF10: =SUM(BF11:BF13) -> 335.42328
A11: Personnel expenses | B11: koszty osobowe | C11: 56.3 | D11: 61.3 | E11: 63.6 | F11: 70.8 | G11: 68.9 | H11: 69.7 | I11: 79.5 | J11: 78.5 | K11: 54.6 | L11: 72.1 | M11: 68.2 | N11: 83.4 | O11: 68.9 | P11: 71.6 | Q11: 75.3 | R11: 97.2 | S11: 78.3 | T11: 91.7 | U11: 88.8 | V11: 89.6 | W11: 98.371882 | X11: 85.770249 | Y11: 93.128729 | Z11: 108.22302 | AA11: 97.831768 | AB11: 96.990185 | AC11: 99.186031 | AD11: 88.889015 | AE11: 98.9 | AF11: 103 | AG11: 104.6 | AH11: 98.5 | AI11: 103.5 | AJ11: 101.9 | AK11: 105.7 | AL11: 106.1 | AM11: 107.5 | AN11: 106.4 | AO11: 108.4 | AP11: 117.9 | AQ11: 106.4 | AR11: 107.4 | AS11: 107.5 | AT11: 107.3 | AU11: 113 | AV11: 117.7 | AW11: 116.6 | AX11: 98.4 | AY11: 139.9561 | AZ11: 144.22788 | BA11: 152.09872 | BB11: 149.90433 | BC11: 153.7 | BD11: 155.55089 | BE11: 166.5 | BF11: 187.49051
A12: Depreciation | B12: amortyzacja | C12: 12.6 | D12: 13.2 | E12: 12.7 | F12: 17.8 | G12: 8.3 | H12: 8 | I12: 9.4 | J12: 8.6 | K12: 7.7 | L12: 7.7 | M12: 6.1 | N12: 7.9 | O12: 7.5 | P12: 7.5 | Q12: 7.9 | R12: 8.5 | S12: 8.7 | T12: 9.8 | U12: 9.5 | V12: 11.2 | W12: 9.3981722 | X12: 9.6978172 | Y12: 9.5887882 | Z12: 14.187547 | AA12: 11.062966 | AB12: 11.910295 | AC12: 11.679973 | AD12: 12.561587 | AE12: 11.6 | AF12: 11.8 | AG12: 12.5 | AH12: 16.9 | AI12: 12.3 | AJ12: 10.8 | AK12: 14.6 | AL12: 10.7 | AM12: 9.7 | AN12: 10.8 | AO12: 10.1 | AP12: 24.1 | AQ12: 10.7 | AR12: 9.3 | AS12: 9.7 | AT12: 10.3 | AU12: 11 | AV12: 9.3 | AW12: 11.1 | AX12: 20.8 | AY12: 22.467635 | AZ12: 23.089397 | BA12: 21.853975 | BB12: 24.960636 | BC12: 23.2 | BD12: 23.968212 | BE12: 27.3 | BF12: 28.822888
A13: Other | B13: pozostałe | C13: 53.934462 | D13: 51.834462 | E13: 54.234462 | F13: 41.734462 | G13: 56.141991 | H13: 60.641991 | I13: 68.341991 | J13: 22.941991 | K13: 74.214958 | L13: 57.614958 | M13: 69.614958 | N13: 29.714958 | O13: 68.533829 | P13: 70.233829 | Q13: 63.533829 | R13: 37.733829 | S13: 75.852736 | T13: 75.052736 | U13: 69.552736 | V13: 69.852736 | W13: 79.929371 | X13: 85.027601 | Y13: 83.082564 | Z13: 64.976375 | AA13: 71.495361 | AB13: 71.268539 | AC13: 66.329555 | AD13: 74.941174 | AE13: 76.5 | AF13: 76.5 | AG13: 85.9 | AH13: 80.8 | AI13: 68.2 | AJ13: 86.4 | AK13: 76.9 | AL13: 141.2 | AM13: 87.1 | AN13: 98 | AO13: =79.7-0.1 -> 79.6 | AP13: 104 | AQ13: 102.9 | AR13: 88.2 | AS13: 94.9 | AT13: 108.5 | AU13: 131.7 | AV13: 96.8 | AW13: 105.6 | AX13: 109.6 | AY13: 179.98801 | AZ13: 107.49605 | BA13: 90.501982 | BB13: 116.90938 | BC13: 213.9 | BD13: 107.036 | BE13: 116.3 | BF13: 119.10988
A14: Result before risk costs | B14: Wynik segmentu | C14: =C5-C10 -> 96.4 | D14: =D5-D10 -> 86.5 | E14: =E5-E10 -> 91.2 | F14: =F5-F10 -> 62.2 | G14: =G5-G10 -> 151.9 | H14: =H5-H10 -> 135 | I14: =I5-I10 -> 120.1 | J14: =J5-J10 -> -75.6 | ... BF14: =BF5-BF10 -> 506.31791
A15: Risk cost | B15: koszty ryzyka | C15: -3.9 | D15: -16.3 | E15: -39.4 | F15: -3.6 | G15: 3.3 | H15: -64.8 | I15: 2.3 | J15: 96.4 | K15: 78.9 | L15: 67 | M15: 32.7 | N15: 62 | O15: 26.9 | P15: 26.2 | Q15: 33.8 | R15: 35.6 | S15: 23.2 | T15: 16.5 | U15: 6.1 | V15: 36.4 | W15: 45.1 | X15: 106 | Y15: 61.1 | Z15: 60.5 | AA15: 20.019079 | AB15: 28.671282 | AC15: 30.689722 | AD15: 59.384944 | AE15: 47.4 | AF15: 22.7 | AG15: 52 | AH15: 66.9 | AI15: 50.5 | AJ15: 40.7 | AK15: 24.2 | AL15: =46.9+0.1-0.1 -> 46.9 | AM15: 62.5 | AN15: 12.9 | AO15: =28.2-3.9 -> 24.3 | AP15: 63.4 | AQ15: 33.6 | AR15: 79.3 | AS15: 69.3 | AT15: 78.7 | AU15: 57.3 | AV15: 70.4 | AW15: 92.2 | AX15: 10 | AY15: 95.7 | AZ15: 103.5 | BA15: 119.4 | BB15: 93.3 | BC15: 185.2 | BD15: 241.6 | BE15: 62.9 | BF15: -1.1
A16: Tax on certain financial institutions | B16: podatek od niektórych instytucji finansowych | C16: 0 | D16: 0 | E16: 0 | F16: 0 | G16: 0 | H16: 0 | I16: 0 | J16: 0 | K16: 0 | L16: 0 | M16: 0 | N16: 0 | O16: 0 | P16: 0 | Q16: 0 | R16: 0 | S16: 0 | T16: 0 | U16: 0 | V16: 0 | W16: 0 | X16: 0 | Y16: 0 | Z16: 0 | AA16: 0 | AB16: 0 | AC16: 0 | AD16: 0 | AE16: 0 | AF16: 0 | AG16: 0 | AH16: 0 | AI16: 0 | AJ16: 0 | AK16: 0 | AL16: 0 | AM16: 32.8 | AN16: =49 -> 49 | AO16: =48.1+0.1 -> 48.2 | AP16: 48.5 | AQ16: 47.5 | AR16: 52 | AS16: 51.7 | AT16: 52.4 | AU16: 51.8 | AV16: 54.1 | AW16: 55.2 | AX16: 57.8 | AY16: 64.1 | AZ16: 67.3 | BA16: 68.2 | BB16: 68.8 | BC16: 69.5 | BD16: 71.7 | BE16: 72.2 | BF16: 71.8
A17: Profit before tax | B17: Wynik segmentu z uwzględnieniem kosztów ryzyka (wynik finansowy brutto) | C17: =C14-C15 -> 100.3 | D17: =D14-D15 -> 102.8 | E17: =E14-E15 -> 130.6 | F17: =F14-F15 -> 65.8 | G17: =G14-G15 -> 148.6 | H17: =H14-H15 -> 199.8 | I17: =I14-I15 -> 117.8 | J17: =J14-J15 -> -172 | ... AL17: =AL14-AL15 -> 140.2 | AM17: =AM14-AM15-AM16 -> 148.6 | AN17: =AN14-AN15-AN16 -> 159.8 | AO17: =AO14-AO15-AO16 -> 195.9 | AP17: =AP14-AP15-AP16 -> 142.9 | AQ17: =AQ14-AQ15-AQ16 -> 198.7 | AR17: =AR14-AR15-AR16 -> 178.4 | AS17: =AS14-AS15-AS16 -> 203 | AT17: =AT14-AT15-AT16 -> 182.8 | ... BF17: =BF14-BF15-BF16 -> 435.61791
A18: */ including the share in net profit of affiliated units shown using the method of ownership rights | B18: */ włączając udział w zyskach netto jednostek stowarzyszonych wykazywanych metodą praw własności

Sheet RZiS B. Detaliczna_P&L Retail
A1: Comparable data pro-forma | B1: Dane porównywalne pro-forma | AY1: nowa segmentacja / new segmentation ->
A2: CONSOLIDATED INCOME STATEMENT Retail customers segment | B2: SKONSOLIDOWANY RACHUNEK ZYSKÓW I STRAT Segment klientów detalicznych | C2: 2007 | G2: 2008 | K2: 2009 | O2: 2010 | S2: 2011 | W2: 2012 | AA2: 2013 | AE2: 2014 | AI2: 2015 | AM2: 2016 | AQ2: 2017 | AT2: 2017 | AU2: 2018 | AY2: 2019 | BC2: 2020
